BEGIN:VCALENDAR
VERSION:2.0
PRODID:-//ChamberMaster//Event Calendar 2.0//EN
METHOD:PUBLISH
X-PUBLISHED-TTL:P3D
REFRESH-INTERVAL:P3D
CALSCALE:GREGORIAN
BEGIN:VEVENT
DTSTART:20121010T183000Z
DTEND:20121010T200000Z
X-MICROSOFT-CDO-ALLDAYEVENT:FALSE
SUMMARY:October Membership Luncheon
DESCRIPTION:Membership Luncheon and Special General Meeting\n\n	Time: Buffet lunch begins 11:30 am\n\n	Where: The Grand Hotel\n\n	Speaker: Dr. Ralph Nilson\n\n	Sponsor: VIU MBA\n\n	Cost: Members: $31.25 (+ HST)\; Non-Members: $45.00 (+ HST)\n\n	Please Note: Pre-payment and Reservations required. Refunds will be issued with 24 hours notice.\n\n	\n\n	The General Membership Luncheon to be held on October 10\, 2012\, 11:30 am\, at the Grand Hotel shall be deemed a Special General Meeting for the purpose of making a bylaw amendment. On the recommendation of our Treasurer and the Board of Directors\, Article 7.14 Audit will be amended as follows:\n\n	\n\n	7.14         FINANCIAL REVIEW ENGAGEMENT/AUDIT\n\n	The Board shall present their recommendation for an accounting firm auditorfor the ensuing year to the members at the Annual General Meeting. The members shall\, by majority vote\, appoint the accounting firm to reviewauditor to audit the accounts and the annual financial statements of the organization for report to the members at the next annual meeting. The accounting firm auditorshall hold office until the next annual meeting. The remuneration of the accounting firm auditorshall be fixed by the Board of Directors.
X-ALT-DESC;FMTTYPE=text/html:<div style="color: gray">\n	<span style="font-size: 12px"><span style="font-family: arial"><span style="color: #2891d6"><b>Membership Luncheon</b></span></span></span> <span style="font-size: 12px"><span style="font-family: arial"><span style="color: #2891d6"><b>and Special General Meeting</b></span></span></span><br />\n	<strong>Time: </strong>Buffet lunch <span style="font-size:12px\;"><span style="font-family: arial\;">begins</span></span> 11:30 am<br />\n	<strong>Where: </strong>The Grand Hotel<br />\n	<strong>Speaker: </strong>Dr. Ralph<strong> </strong>Nilson<br />\n	<strong>Sponsor: </strong>VIU MBA<br />\n	<strong>Cost:&nbsp\;</strong>Members:<strong>&nbsp\;</strong>$31.25 (+ HST)\; Non-Members: $45.00&nbsp\;(+ HST)<br />\n	<em><strong>Please Note: Pre-payment and Reservations required. Refunds will be issued with 24 hours notice.</strong></em><br />\n	<br />\n	<span style="font-size:12px\;"><span style="font-family: arial\;"><span>The General Membership Luncheon to be held on October 10\, 2012\, 11:30 am\, at the Grand Hotel shall be deemed a </span><span style="font-weight: bold\;">Special General Meeting </span><span>for the purpose of making a bylaw amendment. On the recommendation of our Treasurer and the Board of Directors\, Article 7.14 Audit will be amended as follows:</span><br />\n	<br />\n	<span style="font-weight: bold\;">7.14</span>&nbsp\;&nbsp\;&nbsp\;&nbsp\;&nbsp\;&nbsp\;&nbsp\;&nbsp\; <span style="text-decoration: underline\; font-weight: bold\;"><span style="color: red\;">FINANCIAL REVIEW ENGAGEMENT/</span></span><span style="font-weight: bold\;">AUDIT</span><br />\n	<span>The Board shall present their recommendation for </span><span style="text-decoration: underline\;"><span style="color: red\;">an accounting firm </span></span><span style="text-decoration: line-through\;">auditor</span><span>for</span><span> the ensuing year to the members at the Annual General Meeting. The members shall\, by majority vote\, appoint the </span><span style="text-decoration: underline\;"><span style="color: red\;">accounting firm to </span></span><span style="text-decoration: underline\;"><span style="color: red\;">review</span></span><span style="text-decoration: line-through\;">auditor</span><span style="text-decoration: line-through\;"> to audit </span><span>the accounts and the annual financial statements of the organization for report to the members at the next annual meeting. The </span><span style="text-decoration: underline\;"><span style="color: red\;">accounting firm </span></span><span style="text-decoration: line-through\;">auditor</span><span>shall</span><span> hold office until the next annual meeting. The remuneration of the </span><span style="text-decoration: underline\;"><span style="color: red\;">accounting firm </span></span><span style="text-decoration: line-through\;">auditor</span><span>shall</span><span> be fixed by the Board of Directors. </span><br />\n	&nbsp\;</span></span></div>\n
LOCATION:The Grand Hotel 4898 Rutherford Rd.
UID:e.1345.31
SEQUENCE:3
DTSTAMP:20260423T085751Z
URL:https://members.nanaimochamber.bc.ca/events/details/october-membership-luncheon-10-10-2012-31
END:VEVENT

END:VCALENDAR
