BEGIN:VCALENDAR
VERSION:2.0
PRODID:-//ChamberMaster//Event Calendar 2.0//EN
METHOD:PUBLISH
X-PUBLISHED-TTL:P3D
REFRESH-INTERVAL:P3D
CALSCALE:GREGORIAN
BEGIN:VEVENT
DTSTART;VALUE=DATE:20131009
DTEND;VALUE=DATE:20131010
TRANSP:TRANSPARENT
X-MICROSOFT-CDO-ALLDAYEVENT:TRUE
SUMMARY:October Membership Luncheon
DESCRIPTION:Membership Luncheon and Special General Meeting\n\n	Time: Buffet lunch begins 11:30 am\n\n	Where: The Grand Hotel\n\n	Speaker: Jeff Lott\, President 2014 BC Summer Games\n\n	Special General Meeting:  Defining the Physical Boundaries of the GNCoC\n\n	Sponsor: McKinnon & Associates\n\n	\n\n	Cost: Members: $33.48 (+ GST)\; Non-Members: $50.00 (+ GST)\n\n	Please Note: Pre-payment and Reservations required. Refunds will be issued with 24 hours notice.
X-ALT-DESC;FMTTYPE=text/html:<div style="color: gray">\n	<span style="font-size: 12px"><span style="font-family: arial"><span style="color: #2891d6"><b>Membership Luncheon</b></span></span></span> <span style="font-size: 12px"><span style="font-family: arial"><span style="color: #2891d6"><b>and Special General Meeting</b></span></span></span><br />\n	<span style="color:#000000\;"><strong>Time: </strong>Buffet lunch <span style="font-size: 12px\;"><span style="font-family: arial\;">begins</span></span> 11:30 am<br />\n	<strong>Where: </strong>The Grand Hotel<br />\n	<strong>Speaker: </strong>Jeff Lott\, President 2014 BC Summer Games</span><br />\n	<strong><span style="color:#000000\;">Special General Meeting:&nbsp\;</span></strong> <span style="color:#000000\;">Defining the Physical Boundaries of the GNCoC</span><br />\n	<span style="color:#000000\;"><strong>Sponsor: </strong>McKinnon &amp\; Associates<br />\n	<br />\n	<strong>Cost:&nbsp\;</strong>Members:<strong>&nbsp\;</strong>$33.48 (+ GST)\; Non-Members: $50.00&nbsp\;(+ GST)<br />\n	<em><strong>Please Note: Pre-payment and Reservations required. Refunds will be issued with 24 hours notice.</strong></em></span><br />\n	<br />\n	<br />\n	&nbsp\;</div>\n
LOCATION:The Grand Hotel 4898 Rutherford Rd.
UID:e.1345.95
SEQUENCE:3
DTSTAMP:20260422T123258Z
URL:https://members.nanaimochamber.bc.ca/events/details/october-membership-luncheon-10-09-2013-95
END:VEVENT

END:VCALENDAR
