BEGIN:VCALENDAR
VERSION:2.0
PRODID:-//ChamberMaster//Event Calendar 2.0//EN
METHOD:PUBLISH
X-PUBLISHED-TTL:P3D
REFRESH-INTERVAL:P3D
CALSCALE:GREGORIAN
BEGIN:VEVENT
DTSTART:20151030T000000Z
DTEND:20151030T020000Z
X-MICROSOFT-CDO-ALLDAYEVENT:FALSE
SUMMARY:October Business after Business
DESCRIPTION:After work networking event\, no cost to attend. Bring lots of business cards and network with your fellow Chamber members and business professionals.\n\n\n\nHost:  Vancouver Island University\, MBA Program\, Bldg 300 in the Royal Arbutus Room\n\n\n\nFree parking available in Parking lots G and H. Access from Fifth Street\, entrance 5C or 5D.\n\n\n\nVancouver Island University's School of Business hosts one of the largest MBA programs in Western Canada. The program develops business leaders with a global perspective and the skills to impact your business in a positive way.\n\n\n\nCome and meet our coordinators\, faculty members and student ambassadors. We may have the solution to your pressing business needs.\n\n\n\nThe Greater Nanaimo Chamber of Commerce seeks to become more engaged as a socially responsible organization and is encouraging our members to bring a donation/food item for the Community Food Bank to help others less fortunate.
X-ALT-DESC;FMTTYPE=text/html:<span style="font-size: 9pt"><span style="color: #252525"><span style="font-family: arial\, sans-serif">After work networking event\, no cost to attend. Bring lots of business cards and network with your fellow Chamber members and business professionals.</span></span></span><br />\n<br />\n<span style="color:#000000\;"><strong>Host:&nbsp\; </strong>Vancouver Island University\, MBA Program\, Bldg 300 in the Royal Arbutus Room<br />\n<br />\nFree parking available in Parking lots G and H. Access from Fifth Street\, entrance 5C or 5D.</span><br />\n<br />\nVancouver Island University&#39\;s School of Business hosts one of the largest MBA programs in Western Canada. The program develops business leaders with a global perspective and the skills to impact your business in a positive way.<br />\n<br />\nCome and meet our coordinators\, faculty members and student ambassadors. We may have the solution to your pressing business needs.<br />\n<br />\n<em>The Greater Nanaimo Chamber of Commerce seeks to become more engaged as a socially responsible organization and is encouraging our members to bring a donation/food item for the Community Food Bank to help others less fortunate.</em>
LOCATION:Vancouver Island University 900 Fifth St.\, Bldg 300\, Royal Arbutus Room
UID:e.1345.236
SEQUENCE:3
DTSTAMP:20260420T220844Z
URL:https://members.nanaimochamber.bc.ca/events/details/october-business-after-business-10-29-2015-236
END:VEVENT

END:VCALENDAR
