BEGIN:VCALENDAR
VERSION:2.0
PRODID:-//ChamberMaster//Event Calendar 2.0//EN
METHOD:PUBLISH
X-PUBLISHED-TTL:P3D
REFRESH-INTERVAL:P3D
CALSCALE:GREGORIAN
BEGIN:VEVENT
DTSTART:20121026T000000Z
DTEND:20121026T020000Z
X-MICROSOFT-CDO-ALLDAYEVENT:FALSE
SUMMARY:October Business after Business
DESCRIPTION:After work networking event\, no cost to attend. Bring lots of business cards and network with your fellow Chamber members and business professionals.\n\n\n\nWhere: Flying Fish\, 180 Commercial St.
X-ALT-DESC;FMTTYPE=text/html:<span style="font-size: 9pt"><span style="color: #252525"><span style="font-family: arial\, sans-serif">After work networking event\, no cost to attend. Bring lots of business cards and network with your fellow Chamber members and business professionals.</span></span></span><br />\n<br />\n<span style="color: #000000"><strong>Where:</strong> Flying Fish\, 180 Commercial St.</span>
LOCATION:Flying Fish 180 Commercial St.
UID:e.1345.39
SEQUENCE:3
DTSTAMP:20260423T090120Z
URL:https://members.nanaimochamber.bc.ca/events/details/october-business-after-business-10-25-2012-39
END:VEVENT

END:VCALENDAR
