BEGIN:VCALENDAR
VERSION:2.0
PRODID:-//ChamberMaster//Event Calendar 2.0//EN
METHOD:PUBLISH
X-PUBLISHED-TTL:P3D
REFRESH-INTERVAL:P3D
CALSCALE:GREGORIAN
BEGIN:VEVENT
DTSTART:20141024T000000Z
DTEND:20141024T020000Z
X-MICROSOFT-CDO-ALLDAYEVENT:FALSE
SUMMARY:October Business after Business
DESCRIPTION:After work networking event\, no cost to attend. Bring lots of business cards and network with your fellow Chamber members and business professionals.\n\n\n\nHost:  Northridge Health Performance Centre\, 901-5800 Turner Rd.\n\n\n\n\n\nThe Greater Nanaimo Chamber of Commerce seeks to become more engaged as a socially responsible organization and is encouraging our members to bring a donation/food item for the Community Food Bank to help others less fortunate.
X-ALT-DESC;FMTTYPE=text/html:<span style="font-size: 9pt"><span style="color: #252525"><span style="font-family: arial\, sans-serif">After work networking event\, no cost to attend. Bring lots of business cards and network with your fellow Chamber members and business professionals.</span></span></span><br />\n<br />\n<span style="color: #000000"><strong>Host:&nbsp\; </strong>Northridge Health Performance Centre\, 901-5800 Turner Rd.</span><br />\n<br />\n<br />\n<em>The Greater Nanaimo Chamber of Commerce seeks to become more engaged as a socially responsible organization and is encouraging our members to bring a donation/food item for the Community Food Bank to help others less fortunate.</em>
LOCATION:Northridge Health Performance Ctr. 901-5800 Turner Rd.
UID:e.1345.159
SEQUENCE:3
DTSTAMP:20260421T160913Z
URL:https://members.nanaimochamber.bc.ca/events/details/october-business-after-business-10-23-2014-159
END:VEVENT

END:VCALENDAR
