BEGIN:VCALENDAR
VERSION:2.0
PRODID:-//ChamberMaster//Event Calendar 2.0//EN
METHOD:PUBLISH
X-PUBLISHED-TTL:P3D
REFRESH-INTERVAL:P3D
CALSCALE:GREGORIAN
BEGIN:VEVENT
DTSTART:20131017T000000Z
DTEND:20131017T020000Z
X-MICROSOFT-CDO-ALLDAYEVENT:FALSE
SUMMARY:October Business after Business
DESCRIPTION:After work networking event\, no cost to attend. Bring lots of business cards and network with your fellow Chamber members and business professionals.\n\n\n\nHost: United Way Central & Northern Vancouver Island\,\n\nLocation: The Port Theatre lobby\, 125 Front St.
X-ALT-DESC;FMTTYPE=text/html:<span style="font-size: 9pt"><span style="color: #252525"><span style="font-family: arial\, sans-serif">After work networking event\, no cost to attend. Bring lots of business cards and network with your fellow Chamber members and business professionals.</span></span></span><br />\n<br />\n<span style="color: #000000"><strong>Host:</strong> United Way Central &amp\; Northern Vancouver Island\,<br />\n<strong>Location: </strong>The Port Theatre lobby\, 125 Front St.</span><br />\n
LOCATION:The Port Theatre 125 Front St.
UID:e.1345.96
SEQUENCE:3
DTSTAMP:20260422T123616Z
URL:https://members.nanaimochamber.bc.ca/events/details/october-business-after-business-10-16-2013-96
END:VEVENT

END:VCALENDAR
