BEGIN:VCALENDAR
VERSION:2.0
PRODID:-//ChamberMaster//Event Calendar 2.0//EN
METHOD:PUBLISH
X-PUBLISHED-TTL:P3D
REFRESH-INTERVAL:P3D
CALSCALE:GREGORIAN
BEGIN:VEVENT
DTSTART:20121121T153000Z
DTEND:20121121T163000Z
X-MICROSOFT-CDO-ALLDAYEVENT:FALSE
SUMMARY:November Business before Business
DESCRIPTION:Morning networking event\, no cost to attend. Bring lots of business cards and network with your fellow Chamber members and business professionals.\n\n\n\nWhere: IIMG Immigration Services Immigration Consultants\, 427 Fitzwilliam St.\, Suite J\n\n\n\n\n\nThe Greater Nanaimo Chamber of Commerce seeks to become more engaged as a socially responsible organization and is encouraging our members to bring a donation/food item for the Community Food Bank to help others less fortunate.
X-ALT-DESC;FMTTYPE=text/html:Morning networking event\, no cost to attend. Bring lots of business cards and network with your fellow Chamber members and business professionals.<br />\n<br />\n<span style="font-size:12px\;"><span style="font-family: arial\;"><strong>Where:</strong> IIMG Immigration Services Immigration Consultants\, 427 Fitzwilliam St.\, Suite J</span></span><br />\n<br />\n<br />\n<em>The Greater Nanaimo Chamber of Commerce seeks to become more engaged as a socially responsible organization and is encouraging our members to bring a donation/food item for the Community Food Bank to help others less fortunate</em><span style="font-size:12px\;"><span style="font-family: arial\;">.</span></span>
LOCATION:IIMG Immigration Services Immigration Consultants\, 427 Fitzwilliam St.\, Suite J
UID:e.1345.36
SEQUENCE:3
DTSTAMP:20260423T071752Z
URL:https://members.nanaimochamber.bc.ca/events/details/november-business-before-business-11-21-2012-36
END:VEVENT

END:VCALENDAR
