BEGIN:VCALENDAR
VERSION:2.0
PRODID:-//ChamberMaster//Event Calendar 2.0//EN
METHOD:PUBLISH
X-PUBLISHED-TTL:P3D
REFRESH-INTERVAL:P3D
CALSCALE:GREGORIAN
BEGIN:VEVENT
DTSTART:20141119T153000Z
DTEND:20141119T163000Z
X-MICROSOFT-CDO-ALLDAYEVENT:FALSE
SUMMARY:November Business before Business
DESCRIPTION:Morning networking event\, no cost to attend. Bring lots of business cards and network with your fellow Chamber members and business professionals.\n\n\n\nWhere: Cactus Club Cafe\, 801-5800 Turner Rd.
X-ALT-DESC;FMTTYPE=text/html:Morning networking event\, no cost to attend. Bring lots of business cards and network with your fellow Chamber members and business professionals.<br />\n<br />\n<strong>Where:</strong> Cactus Club Cafe\, 801-5800 Turner Rd.
LOCATION:Cactus Club Cafe 801-5800 Turner Rd.
UID:e.1345.177
SEQUENCE:3
DTSTAMP:20260421T143808Z
URL:https://members.nanaimochamber.bc.ca/events/details/november-business-before-business-11-19-2014-177
END:VEVENT

END:VCALENDAR
