BEGIN:VCALENDAR
VERSION:2.0
PRODID:-//ChamberMaster//Event Calendar 2.0//EN
METHOD:PUBLISH
X-PUBLISHED-TTL:P3D
REFRESH-INTERVAL:P3D
CALSCALE:GREGORIAN
BEGIN:VEVENT
DTSTART:20151118T153000Z
DTEND:20151118T163000Z
X-MICROSOFT-CDO-ALLDAYEVENT:FALSE
SUMMARY:November Business before Business
DESCRIPTION:Morning networking event\, no cost to attend. Bring lots of business cards and network with your fellow Chamber members and business professionals.\n\n\n\nWhere: RBC\, 205 Commercial St.
X-ALT-DESC;FMTTYPE=text/html:Morning networking event\, no cost to attend. Bring lots of business cards and network with your fellow Chamber members and business professionals.<br />\n<br />\n<strong>Where:</strong> RBC\, 205 Commercial St.
LOCATION:RBC 205 Commercial St.
UID:e.1345.238
SEQUENCE:3
DTSTAMP:20260420T190631Z
URL:https://members.nanaimochamber.bc.ca/events/details/november-business-before-business-11-18-2015-238
END:VEVENT

END:VCALENDAR
