BEGIN:VCALENDAR
VERSION:2.0
PRODID:-//ChamberMaster//Event Calendar 2.0//EN
METHOD:PUBLISH
X-PUBLISHED-TTL:P3D
REFRESH-INTERVAL:P3D
CALSCALE:GREGORIAN
BEGIN:VEVENT
DTSTART:20131129T010000Z
DTEND:20131129T030000Z
X-MICROSOFT-CDO-ALLDAYEVENT:FALSE
SUMMARY:November Business after Business
DESCRIPTION:After work networking event\, no cost to attend. Bring lots of business cards and network with your fellow Chamber members and business professionals.\n\n\n\nHost: Impact Visual Communications\, #505   495 Dunsmuir Street\n\n\n\n\n\nThe Greater Nanaimo Chamber of Commerce seeks to become more engaged as a socially responsible organization and is encouraging our members to bring a donation/food item for the Community Food Bank to help others less fortunate.
X-ALT-DESC;FMTTYPE=text/html:<span style="font-size: 9pt"><span style="color: #252525"><span style="font-family: arial\, sans-serif">After work networking event\, no cost to attend. Bring lots of business cards and network with your fellow Chamber members and business professionals.</span></span></span><br />\n<br />\n<span style="color: #000000"><strong>Host: </strong>Impact Visual Communications\, </span>#505 &ndash\; 495 Dunsmuir Street<br />\n<br />\n<br />\n<em>The Greater Nanaimo Chamber of Commerce seeks to become more engaged as a socially responsible organization and is encouraging our members to bring a donation/food item for the Community Food Bank to help others less fortunate.</em>
LOCATION:Impact Visual Communications #505 495 Dunsmuir Street
UID:e.1345.100
SEQUENCE:3
DTSTAMP:20260422T112203Z
URL:https://members.nanaimochamber.bc.ca/events/details/november-business-after-business-11-28-2013-100
END:VEVENT

END:VCALENDAR
