BEGIN:VCALENDAR
VERSION:2.0
PRODID:-//ChamberMaster//Event Calendar 2.0//EN
METHOD:PUBLISH
X-PUBLISHED-TTL:P3D
REFRESH-INTERVAL:P3D
CALSCALE:GREGORIAN
BEGIN:VEVENT
DTSTART:20141128T010000Z
DTEND:20141128T030000Z
X-MICROSOFT-CDO-ALLDAYEVENT:FALSE
SUMMARY:November Business after Business
DESCRIPTION:After work networking event\, no cost to attend. Bring lots of business cards and network with your fellow Chamber members and business professionals.\n\n\n\nHost:  Nanaimo North Town Centre\, 147-4750 Rutherford Rd.\n\n\n\nFor parking\, please go to the back of North Town Centre. Close to the Liquor Store entrance (between London Drugs and Fairway Market)\n\n\n\nThe Greater Nanaimo Chamber of Commerce seeks to become more engaged as a socially responsible organization and is encouraging our members to bring a donation/food item for the Community Food Bank to help others less fortunate.
X-ALT-DESC;FMTTYPE=text/html:<span style="font-size: 9pt"><span style="color: #252525"><span style="font-family: arial\, sans-serif">After work networking event\, no cost to attend. Bring lots of business cards and network with your fellow Chamber members and business professionals.</span></span></span><br />\n<br />\n<span style="color: #000000"><strong>Host:&nbsp\; </strong>Nanaimo North Town Centre\, 147-4750 Rutherford Rd.</span><br />\n<br />\nFor parking\, please go to the back of North Town Centre. Close to the Liquor Store entrance (between London Drugs and Fairway Market)<br />\n<br />\n<em>The Greater Nanaimo Chamber of Commerce seeks to become more engaged as a socially responsible organization and is encouraging our members to bring a donation/food item for the Community Food Bank to help others less fortunate.</em>
LOCATION:Nanaimo North Town Centre 147-4750 Rutherford Rd.
UID:e.1345.137
SEQUENCE:3
DTSTAMP:20260421T142935Z
URL:https://members.nanaimochamber.bc.ca/events/details/november-business-after-business-11-27-2014-137
END:VEVENT

END:VCALENDAR
