BEGIN:VCALENDAR
VERSION:2.0
PRODID:-//ChamberMaster//Event Calendar 2.0//EN
METHOD:PUBLISH
X-PUBLISHED-TTL:P3D
REFRESH-INTERVAL:P3D
CALSCALE:GREGORIAN
BEGIN:VEVENT
DTSTART;VALUE=DATE:20150220
DTEND;VALUE=DATE:20150221
TRANSP:TRANSPARENT
X-MICROSOFT-CDO-ALLDAYEVENT:TRUE
SUMMARY:Nominee Celebration
DESCRIPTION:NOMINEE CELEBRATION\n\n\nThe nominations are all in\, the judges have done their work and now we celebrate the great nominees! Join us and them at the Coast Bastion Hotel on Friday\, February 20th.\n\n\n\nAll the nominees are winners\; someone has thought so highly of their service/product that they took time out from their busy lives to nominate them for an award. This is worth a party for sure!\n\n\n\nOn Friday\, February 20\, 2015 at the Coast Bastion Hotel from 5:00 8:00 pm we will be hosting a reception for all nominees to recognize their important contribution to our community. Invitations will be sent to all those nominated\; tickets are $25.00 (plus GST).
X-ALT-DESC;FMTTYPE=text/html:<h3>NOMINEE CELEBRATION</h3>\n<br />\nThe nominations are all in\, the judges have done their work and now we celebrate the great nominees! Join us and them at the Coast Bastion Hotel on Friday\, February 20th.<br />\n<br />\nAll the nominees are winners\; someone has thought so highly of their service/product that they took time out from their busy lives to nominate them for an award. This is worth a party for sure!<br />\n<br />\nOn Friday\, February 20\, 2015 at the Coast Bastion Hotel from 5:00&mdash\;8:00 pm we will be hosting a reception for all nominees to recognize their important contribution to our community. Invitations will be sent to all those nominated\; tickets are $25.00 (plus GST).\n<div style="text-align: center\;"><br />\n&nbsp\;</div>\n
LOCATION:Coast Bastion Hotel 11 Bastion St.
UID:e.1345.181
SEQUENCE:3
DTSTAMP:20260421T093858Z
URL:https://members.nanaimochamber.bc.ca/events/details/nominee-celebration-02-20-2015-181
END:VEVENT

END:VCALENDAR
