BEGIN:VCALENDAR
VERSION:2.0
PRODID:-//ChamberMaster//Event Calendar 2.0//EN
METHOD:PUBLISH
X-PUBLISHED-TTL:P3D
REFRESH-INTERVAL:P3D
CALSCALE:GREGORIAN
BEGIN:VEVENT
DTSTART:20161109T190000Z
DTEND:20161109T210000Z
X-MICROSOFT-CDO-ALLDAYEVENT:FALSE
SUMMARY:Networking Luncheon - Sheila Malcomson\, MP
DESCRIPTION:Guest Speaker\n\nSheila Malcolmson\, MP\, Nanaimo-Ladysmith\n\nElected in 2015\, Sheila is an experienced leader working to deliver positive results as the Member of Parliament for Nanaimo Ladysmith.\n\nSheila is known for bringing people from different backgrounds together around a common cause: workers\, small businesses\, First Nations\, community groups\, students. She entered Parliament with 12 years of constituency experience under her belt\, having been elected four times to local government.
X-ALT-DESC;FMTTYPE=text/html:<p style="box-sizing: border-box\; font-size: 22px\; line-height: 31.9px\; letter-spacing: 0.64px\; color: rgb(88\, 89\, 91)\; font-family: Helvetica-Light\, arial\; vertical-align: baseline\; margin: 1em 0px\; padding: 0px\; border: 0px\; background-color: rgb(255\, 255\, 255)\;"><span style="font-size:12px\;"><strong>Guest Speaker<br />\nSheila Malcolmson\, MP\, Nanaimo-Ladysmith</strong><br />\nElected in 2015\, Sheila is an experienced leader working to deliver positive results as the Member of Parliament for Nanaimo&mdash\;Ladysmith.</span></p>\n\n<p style="box-sizing: border-box\; font-size: 22px\; line-height: 31.9px\; letter-spacing: 0.64px\; color: rgb(88\, 89\, 91)\; font-family: Helvetica-Light\, arial\; vertical-align: baseline\; margin: 1em 0px\; padding: 0px\; border: 0px\; background-color: rgb(255\, 255\, 255)\;"><span style="font-size:12px\;">Sheila is known for bringing people from different backgrounds together around a common cause: workers\, small businesses\, First Nations\, community groups\, students. She entered Parliament with 12 years of constituency experience under her belt\, having been elected four times to local government.</span></p>\n
LOCATION:Coast Bastion Hotel 11 Bastion St
UID:e.1345.444
SEQUENCE:3
DTSTAMP:20260420T014036Z
URL:https://members.nanaimochamber.bc.ca/events/details/networking-luncheon-sheila-malcomson-mp-444
END:VEVENT

END:VCALENDAR
