BEGIN:VCALENDAR
VERSION:2.0
PRODID:-//ChamberMaster//Event Calendar 2.0//EN
METHOD:PUBLISH
X-PUBLISHED-TTL:P3D
REFRESH-INTERVAL:P3D
CALSCALE:GREGORIAN
BEGIN:VEVENT
DTSTART:20161012T180000Z
DTEND:20161012T200000Z
X-MICROSOFT-CDO-ALLDAYEVENT:FALSE
SUMMARY:Nanaimo Division of Family Practise - Monthly Luncheon
DESCRIPTION:It Takes A Village \n\nLittle did they know when starting a small non-profit society 5 years ago\, that it would grow to over 200 physician members and lay the foundation for community partnerships that have seen such successes as the opening of a student wellness centre at John Barsby Secondary School and a number of new family doctors recruited to Nanaimo.  These initiatives\, among others\, have garnered attention from all corners of the province.\n\n \n\nAt the upcoming October Chamber luncheon\, Dr. Melissa Oberholster\, Chair of the Nanaimo Division of Family Practice\, will share this and other stories from the 5-year journey in Nanaimo and her hopes for other partnership opportunities in growing a healthy Nanaimo.  This includes exploring the economic impact and business opportunities created with the arrival of new physicians and their families.
X-ALT-DESC;FMTTYPE=text/html:<em><span style="font-family:calibri\,sans-serif\;"><span style="font-size:11.0pt\;">It Takes A Village&hellip\;</span></span></em><br />\n<em><span style="font-family:calibri\,sans-serif\;"><span style="font-size:11.0pt\;">Little did they know when starting a small non-profit society 5 years ago\, that it would grow to over 200 physician members and lay the foundation for community partnerships that have seen such successes as the opening of a student wellness centre at John Barsby Secondary School and a number of new family doctors recruited to Nanaimo.&nbsp\; These initiatives\, among others\, have garnered attention from all corners of the province.</span></span></em><br />\n&nbsp\;<br />\n<em><span style="font-family:calibri\,sans-serif\;"><span style="font-size:11.0pt\;">At the upcoming October Chamber luncheon\, Dr. Melissa Oberholster\, Chair of the Nanaimo Division of Family Practice\, will share this and other stories from the 5-year journey in Nanaimo and her hopes for other partnership opportunities in growing a healthy Nanaimo.&nbsp\; This includes exploring the economic impact and business opportunities created with the arrival of new physicians and their families.</span></span></em>
LOCATION:Coast Bastion Hotel - Ballroom 11 Bastion St
UID:e.1345.443
SEQUENCE:3
DTSTAMP:20260420T032855Z
URL:https://members.nanaimochamber.bc.ca/events/details/nanaimo-division-of-family-practise-monthly-luncheon-443
END:VEVENT

END:VCALENDAR
