BEGIN:VCALENDAR
VERSION:2.0
PRODID:-//ChamberMaster//Event Calendar 2.0//EN
METHOD:PUBLISH
X-PUBLISHED-TTL:P3D
REFRESH-INTERVAL:P3D
CALSCALE:GREGORIAN
BEGIN:VEVENT
DTSTART:20130118T020000Z
DTEND:20130118T053000Z
X-MICROSOFT-CDO-ALLDAYEVENT:FALSE
SUMMARY:Nanaimo Cultural Plan Community Visioning Forum
DESCRIPTION:Nanaimo Cultural Plan Community Visioning Forum\n\n	Collaborative Engagement Process\n\n	Facilitated by: Nanaimo Design Nerds\n\n	Thursday\, January 17th\, 2013\n\n	6 pm   9:30 pm\n\n	Nanaimo Art Gallery\n\n\nNanaimo Design Nerds will facilitate this session using a collaborative approach to the participant feedback process which will enhance creativity and participant engagement. We look forward to your creative and innovative ideas that will come out of this session for the new Nanaimo Cultural Plan.\n\n\n\nCulture enriches our lives by providing enjoyment and appreciation of all creative endeavors. It supports and encourages all creative people from artists to creative professionals resulting in cultural vitality and economic prosperity.\n\n\n\nThe Nanaimo Cultural Plan will set community vision and direction for future cultural development.\n\n\n\nCultural planning is vital for realizing the cultural amenities that attract a vibrant creative workforce to live\, work\, and play in our community. Nanaimo is moving from a resource-based to a knowledge-based economy and creativity is becoming one of the most sought after commodities. The City of Nanaimo corporate strategic plan includes "Cultural Vitality" as the 4th pillar of sustainability and recognizes that what were once "amenities" are now "necessities" and that culture\, creativity and innovation are an essential part of city building and sustainable municipal planning.\n\n\n\nPlease join us on January 17th with your ideas on how culture can make Nanaimo healthy vibrant community where people love to live or visit.\n\n\n\n"Creativity and innovation are together the overall elements to propel cities to success" The External Advisory Committee on Cities and Communities (The Harcourt Commission)\n\n\n\n"The evidence is simply overwhelming   to prosper in the future\, Canadian cities must embrace cultural planning as a key and core element of municipal government." Gord Hume
X-ALT-DESC;FMTTYPE=text/html:<p style="text-align: center\;">\n	Nanaimo Cultural Plan Community Visioning Forum<br />\n	Collaborative Engagement Process<br />\n	Facilitated by: Nanaimo Design Nerds<br />\n	Thursday\, January 17th\, 2013<br />\n	6 pm &ndash\; 9:30 pm<br />\n	Nanaimo Art Gallery</p>\n<br />\nNanaimo Design Nerds will facilitate this session using a collaborative approach to the participant feedback process which will enhance creativity and participant engagement. We look forward to your creative and innovative ideas that will come out of this session for the new Nanaimo Cultural Plan.<br />\n<br />\nCulture enriches our lives by providing enjoyment and appreciation of all creative endeavors. It supports and encourages all creative people from artists to creative professionals resulting in cultural vitality and economic prosperity.<br />\n<br />\nThe Nanaimo Cultural Plan will set community vision and direction for future cultural development.<br />\n<br />\nCultural planning is vital for realizing the cultural amenities that attract a vibrant creative workforce to live\, work\, and play in our community. Nanaimo is moving from a resource-based to a knowledge-based economy and creativity is becoming one of the most sought after commodities. The City of Nanaimo corporate strategic plan includes &ldquo\;Cultural Vitality&rdquo\; as the 4th pillar of sustainability and recognizes that what were once &ldquo\;amenities&rdquo\; are now &ldquo\;necessities&rdquo\; and that culture\, creativity and innovation are an essential part of city building and sustainable municipal planning.<br />\n<br />\nPlease join us on January 17th with your ideas on how culture can make Nanaimo healthy vibrant community where people love to live or visit.<br />\n<br />\n&ldquo\;Creativity and innovation are together the overall elements to propel cities to success&rdquo\; The External Advisory Committee on Cities and Communities (The Harcourt Commission)<br />\n<br />\n&ldquo\;The evidence is simply overwhelming &ndash\; to prosper in the future\, Canadian cities must embrace cultural planning as a key and core element of municipal government.&rdquo\; Gord Hume
LOCATION:Nanaimo Art Gallery
UID:e.1345.71
SEQUENCE:3
DTSTAMP:20260423T042652Z
URL:https://members.nanaimochamber.bc.ca/events/details/nanaimo-cultural-plan-community-visioning-forum-01-17-2013-71
END:VEVENT

END:VCALENDAR
