BEGIN:VCALENDAR
VERSION:2.0
PRODID:-//ChamberMaster//Event Calendar 2.0//EN
METHOD:PUBLISH
X-PUBLISHED-TTL:P3D
REFRESH-INTERVAL:P3D
CALSCALE:GREGORIAN
BEGIN:VEVENT
DTSTART:20170614T180000Z
DTEND:20170614T200000Z
X-MICROSOFT-CDO-ALLDAYEVENT:FALSE
SUMMARY:Monthly Luncheon - VIU MBA Program
DESCRIPTION:Chamber Networking Luncheon\n\n \n\nThe Power of Internship\n\nPresented by the VIU MBA Internship Program \n\n \n\n	Discover how an MBA intern can help your business\n	Learn about Nanaimo's international MBA student community\n	Connect with the international entrepreneurs of tomorrow\n	Watch a PechaKucha demonstration from the winning team on why global and national organizations should think about relocating to Nanaimo
X-ALT-DESC;FMTTYPE=text/html:<strong><span style="font-size:12pt\;">Chamber Networking Luncheon</span></strong><br />\n&nbsp\;<br />\n<span style="font-size:12pt\;">The Power of Internship</span><br />\n<span style="font-size:12pt\;">Presented by the VIU MBA Internship Program </span><br />\n&nbsp\;\n<ul>\n	<li><strong><span style="font-size:12pt\;">Discover</span></strong><span style="font-size:12pt\;"> how an MBA intern can help your business</span></li>\n	<li><strong><span style="font-size:12pt\;">Learn</span></strong><span style="font-size:12pt\;"> about Nanaimo&rsquo\;s international MBA student community</span></li>\n	<li><strong><span style="font-size:12pt\;">Connect</span></strong><span style="font-size:12pt\;"> with the international entrepreneurs of tomorrow</span></li>\n	<li><strong><span style="font-size:12pt\;">Watch</span></strong><span style="font-size:12pt\;"> a PechaKucha demonstration from the winning team on why global and national organizations should think about relocating to Nanaimo</span></li>\n</ul>\n&nbsp\;<br />\n&nbsp\;
LOCATION:Vancouver Island Conference Centre
UID:e.1345.495
SEQUENCE:3
DTSTAMP:20260419T144440Z
URL:https://members.nanaimochamber.bc.ca/events/details/monthly-luncheon-viu-mba-program-495
END:VEVENT

END:VCALENDAR
