BEGIN:VCALENDAR
VERSION:2.0
PRODID:-//ChamberMaster//Event Calendar 2.0//EN
METHOD:PUBLISH
X-PUBLISHED-TTL:P3D
REFRESH-INTERVAL:P3D
CALSCALE:GREGORIAN
BEGIN:VEVENT
DTSTART:20170510T180000Z
DTEND:20170510T200000Z
X-MICROSOFT-CDO-ALLDAYEVENT:FALSE
SUMMARY:Monthly Luncheon - Nanaimo Hospital Foundation
DESCRIPTION:Guest Speakers:\n\nDr. Drew Digney\, Executive Medical Director  for Nanaimo\, Port Alberni\, Oceanside and West Coast\, and Suzanne Fox\, Executive Director for IHealth\, Nanaimo\, Oceanside\, Port Alberni and West Coast.
X-ALT-DESC;FMTTYPE=text/html:Guest Speakers:<br />\n<strong>Dr. Drew Digney</strong>\, Executive Medical Director &nbsp\;for Nanaimo\, Port Alberni\, Oceanside and West Coast\, and <strong>Suzanne Fox</strong>\, Executive Director for IHealth\, Nanaimo\, Oceanside\, Port Alberni and West Coast.<br />\n&nbsp\;
LOCATION:The Coast Bastion Hotel 10 Commercial Street
UID:e.1345.493
SEQUENCE:3
DTSTAMP:20260419T145058Z
URL:https://members.nanaimochamber.bc.ca/events/details/monthly-luncheon-nanaimo-hospital-foundation-493
END:VEVENT

END:VCALENDAR
