BEGIN:VCALENDAR
VERSION:2.0
PRODID:-//ChamberMaster//Event Calendar 2.0//EN
METHOD:PUBLISH
X-PUBLISHED-TTL:P3D
REFRESH-INTERVAL:P3D
CALSCALE:GREGORIAN
BEGIN:VEVENT
DTSTART:20170111T190000Z
DTEND:20170111T210000Z
X-MICROSOFT-CDO-ALLDAYEVENT:FALSE
SUMMARY:Monthly Luncheon - Dr. Ralph Nilson\, President & Vice-Chancellor
DESCRIPTION:11:00 - 11:40 am         Networking\n\n11:40 am                     Buffet is open\n\n12:05   12:10              Greg Phillips\, Chair\n\n	Message from Chair & Welcome\n	New member introduction \n	Prize Draws   invite VIP to draw the prizes\n	\n		Member Profile\n		50/50 Draw\n	\n	\n\n\n\n12:15                           Keynote Speaker\n\nDr. Ralph Nilson\, President & Chancellor of Vancouver Island University. Vancouver Island University has over 16\,000 students and employs over 3\,000 people in our community. VIU has an economic impact on Nanaimo in excess of $400 million annually. Hear Dr. Nilson's idea of an 'Education Enterprise Centre' in Nanaimo to complement our brand as a 'cap and gown' town   referring to the 2\,100 diplomas and degrees they grant each year. Would an Education Enterprise Centre make sense\, and drive business\, in our economy? How about for your financial future? Don't miss this important keynote speaking event at our January luncheon!\n\n\n\nDr. Ralph Nilson has been the President and Vice Chancellor of Vancouver Island University (VIU) since 2007. Under Dr. Nilson's leadership\, VIU is evolving as a values based institution that supports faculty and staff to create an exceptional learning environment for students. VIU has become recognized as a national leader in advancing reconciliation through partnership with First Nation communities\,advocating for and investing in transformational change. As the leader of a regionally engaged university\,Dr. Nilson works closely with Indigenous communities and local/regional governments\, businesses and non profit organizations to ensure relevant\, responsive and innovative educational programs built on relationships of trust\, mutual respect and inclusiveness. His continued engagement on issues of population health supports the developmental focus of his work on the social determinants of health and in particular his emphasis on education as key to addressing issues of inequity.\n\nDr. Nilson also emphasizes the importance of the University in international outreach and in particular building a global connection to the local region. VIU attracts well over two thousand international students from over ninety countries annually which ensures VIU is a portal for\, and regional leader in\,\n\ninternational contributions to awareness\, dialogue and nation building.\n\nCrystal Dennison\, Nanaimo Ladysmith Public Schools Foundation to speak about the success of their Foundation12:45                                    Kim Smythe\, closing remarks
X-ALT-DESC;FMTTYPE=text/html:<strong><span style="font-family:arial\,sans-serif\;"><span style="font-size:10.5pt\;">11:00 - 11:40 am</span></span></strong><span style="font-family:arial\,sans-serif\;"><span style="font-size:10.5pt\;">&nbsp\;&nbsp\;&nbsp\;&nbsp\;&nbsp\;&nbsp\;&nbsp\;&nbsp\; Networking</span></span><br />\n<strong><span style="font-family:arial\,sans-serif\;"><span style="font-size:10.5pt\;">11:40 am</span></span></strong><span style="font-family:arial\,sans-serif\;"><span style="font-size:10.5pt\;">&nbsp\; &nbsp\; &nbsp\; &nbsp\; &nbsp\; &nbsp\; &nbsp\; &nbsp\; &nbsp\; &nbsp\; &nbsp\;Buffet is open</span></span><br />\n<strong><span style="font-family:arial\,sans-serif\;"><span style="font-size:10.5pt\;">12:05 &ndash\; 12:10</span></span></strong><span style="font-family:arial\,sans-serif\;"><span style="font-size:10.5pt\;">&nbsp\;&nbsp\;&nbsp\;&nbsp\;&nbsp\;&nbsp\;&nbsp\;&nbsp\;&nbsp\;&nbsp\;&nbsp\;&nbsp\;&nbsp\; <strong>Greg Phillips</strong>\, Chair</span></span>\n<ul>\n	<li style="background:white\;">Message from Chair &amp\; Welcome</li>\n	<li style="background:white\;"><span style="font-family:arial\,sans-serif\;"><span style="font-size:10.5pt\;">New member introduction&nbsp\;</span></span></li>\n	<li style="background:white\;"><span style="font-family:arial\,sans-serif\;"><span style="font-size:10.5pt\;">Prize Draws &ndash\; invite VIP to draw the prizes</span></span>\n	<ul style="list-style-type:circle\;">\n		<li style="background:white\;"><span style="font-family:arial\,sans-serif\;"><span style="font-size:10.5pt\;">Member Profile</span></span></li>\n		<li style="background:white\;"><span style="font-family:arial\,sans-serif\;"><span style="font-size:10.5pt\;">50/50 Draw</span></span></li>\n	</ul>\n	</li>\n</ul>\n<br />\n<strong><span style="font-family:arial\,sans-serif\;"><span style="font-size:10.5pt\;">12:15&nbsp\;&nbsp\;&nbsp\;&nbsp\;&nbsp\;&nbsp\;&nbsp\;&nbsp\;&nbsp\;&nbsp\;&nbsp\;&nbsp\;&nbsp\;&nbsp\;&nbsp\;&nbsp\;&nbsp\;&nbsp\;&nbsp\;&nbsp\;&nbsp\;&nbsp\;&nbsp\;&nbsp\;&nbsp\;&nbsp\; </span></span></strong><span style="font-family:arial\,sans-serif\;"><span style="font-size:10.5pt\;">Keynote Speaker<br />\n<strong>Dr. Ralph Nilson\, President &amp\; Chancellor of Vancouver Island University. </strong></span></span>Vancouver Island University has over 16\,000 students and employs over 3\,000 people in our community. VIU has an economic impact on Nanaimo in excess of $400 million annually. Hear Dr. Nilson&rsquo\;s idea of an &lsquo\;Education Enterprise Centre&rsquo\; in Nanaimo to complement our brand as a &lsquo\;cap and gown&rsquo\; town &mdash\; referring to the 2\,100 diplomas and degrees they grant each year. Would an Education Enterprise Centre make sense\, and drive business\, in our economy? How about for your financial future? Don&rsquo\;t miss this important keynote speaking event at our January luncheon!<br />\n<br />\nDr. Ralph Nilson has been the President and Vice&#8208\;Chancellor of Vancouver Island University (VIU) since 2007. Under Dr. Nilson&rsquo\;s leadership\, VIU is evolving as a values&#8208\;based institution that supports faculty&nbsp\;and staff to create an exceptional learning environment for students. VIU has become recognized as a&nbsp\;national leader in advancing reconciliation through partnership with First Nation communities\,advocating for and investing in transformational change. As the leader of a regionally engaged university\,Dr. Nilson works closely with Indigenous communities and local/regional governments\, businesses and&nbsp\;non&#8208\;profit organizations to ensure relevant\, responsive and innovative educational programs built on&nbsp\;relationships of trust\, mutual respect and inclusiveness. His continued engagement on issues of&nbsp\;population health supports the developmental focus of his work on the social determinants of health and&nbsp\;in particular his emphasis on education as key to addressing issues of inequity.<br />\nDr. Nilson also emphasizes the importance of the University in international outreach and in particular&nbsp\;building a global connection to the local region. VIU attracts well over two thousand international&nbsp\;students from over ninety countries annually which ensures VIU is a portal for\, and regional leader in\,<br />\ninternational contributions to awareness\, dialogue and nation building.<br />\n<span style="color: rgb(51\, 51\, 51)\; font-size: 13px\; font-family: arial\, sans-serif\;"><span style="font-size: 10.5pt\;"><strong>Crystal Dennison</strong>\, Nanaimo&nbsp\;Ladysmith&nbsp\;Public Schools Foundation to speak about the success of their </span></span><span style="color: rgb(51\, 51\, 51)\; font-size: 13px\; font-family: arial\, sans-serif\;"><span style="font-size: 10.5pt\;">Foundation</span></span><strong><span style="font-family:calibri\,sans-serif\;"><span style="font-size:11pt\;">12</span></span></strong><strong><span style="font-family:calibri\,sans-serif\;"><span style="font-size:11pt\;">:45</span></span></strong><span style="font-family:calibri\,sans-serif\;"><span style="font-size:11pt\;">&nbsp\;&nbsp\;&nbsp\;&nbsp\;&nbsp\;&nbsp\;&nbsp\;&nbsp\;&nbsp\;&nbsp\;&nbsp\;&nbsp\;&nbsp\;&nbsp\;&nbsp\;&nbsp\;&nbsp\;&nbsp\;&nbsp\;&nbsp\;&nbsp\;&nbsp\;&nbsp\;&nbsp\;&nbsp\;&nbsp\;&nbsp\;&nbsp\;&nbsp\;&nbsp\;&nbsp\;&nbsp\;&nbsp\;&nbsp\;&nbsp\; <strong>Kim Smythe\, closing remarks</strong></span></span><br />\n&#8203\;
LOCATION:The Coast Bastion Hotel 11 Commercial Street
UID:e.1345.489
SEQUENCE:3
DTSTAMP:20260419T204314Z
URL:https://members.nanaimochamber.bc.ca/events/details/monthly-luncheon-dr-ralph-nilson-president-vice-chancellor-489
END:VEVENT

END:VCALENDAR
