BEGIN:VCALENDAR
VERSION:2.0
PRODID:-//ChamberMaster//Event Calendar 2.0//EN
METHOD:PUBLISH
X-PUBLISHED-TTL:P3D
REFRESH-INTERVAL:P3D
CALSCALE:GREGORIAN
BEGIN:VEVENT
DTSTART:20170308T190000Z
DTEND:20170308T210000Z
X-MICROSOFT-CDO-ALLDAYEVENT:FALSE
SUMMARY:Monthly Luncheon - Canada 150
DESCRIPTION:Nanaimo's Canada 150 Legacy Project and Events Funding Announced\n\n\n\nThe Canada 150 theme is Strong. Proud. Free and our citizens will have the opportunity to Celebrate together to connect to our past\, embrace the present\, and build toward the future.\n\n \n\nTUESDAY\, FEBRUARY 14\, 2017 - On Monday February 6\, Nanaimo Canada 150 Committee Co-chairs\, Diana Johnstone and Wally Wells\, solidified an additional $75\,000 from the City of Nanaimo ensuring that a total of $105\,000 contributed by the City will go towards Canada 150 legacy projects and events in Nanaimo.  The Committee has also secured a $2000 sponsorship funding from The Nanaimo Airport\, $2000 from Coastal Community Credit Union as well as $18\,750 from the Tourism Nanaimo Fund in 2016.\n\n\n\nThe Nanaimo Canada 150 website is now available for various community partners to get information about how to be a part of the celebration as a sponsor or to submit their events to be a part of the official Canada 150 Calendar of Events. These events will be showcased in various promotional materials leading up to July 1st and available on the website throughout the entire year.  More information can be found at www.nanaimo150.com/\n\n\n\nDiana Johnstone states\, "With great support from the Nanaimo volunteer Canada 150 Committee\, we will continue to fund raise and meet with various businesses to ensure that we may provide a great legacy for the Nanaimo community."\n\n\n\nNanaimo's volunteer Canada 150 Committee has been hard at work since 2015 implementing various initiatives and projects to ensure Nanaimo is included in the Canada 150 activities held nation-wide. On July 1\, 2017\, The City of Nanaimo will host its annual Community Event at Maffeo Sutton Park as it does every Canada Day. However\, this year there will be very special additions to the event throughout the day implemented by the Nanaimo Canada 150 Committee. This includes:\n\n	Fireworks Celebrations at the Nanaimo Harbour\n	Vignettes of Musical Review Legacy Performance "Blackstones & Bathtubs: A Musical Revue of the Town You Never Knew" at Maffeo Sutton Park\n	Search and Rescue demonstration involving our local marine team along with staff and fly overs from CFB Comox at Maffeo Sutton Park\n	Storing Telling by new Canadian citizens at Maffeo Sutton Park\n	Canadian Letter Exhibit: Nanaimo Museum & VIU\n	Canada 150 Choir: 150 Voices featuring iconic Canadian Songs\n	Multiple Canada 150 themed activities displays and performances\n	H.M.C.S Nanaimo of the Royal Canadian Navy\n	Information about outreach programs in schools\n\nIn addition to all the exciting events happening on July 1\, The Nanaimo Canada 150 Committee will be introducing a legacy program called "Blackstones & Bathtubs: A Musical Revue of the Town You Never Knew." This very special legacy project is a musical revue and stage performance showcasing Nanaimo's historic past. The project is currently in production and is a complete design of Razzle Dazzle Productions. This will be a legacy project that will continue to be showcased every year during the month of July to draw tourists and locals to learn about the deep-rooted history of Nanaimo.\n\n\n\nWe encourage all our citizens to be part of the Celebration of our country's 150th Anniversary of Confederation. This is going to be a party you will not want to miss!\n\n \n\nPlease contact 250-754-8141 or visit www.nanaimo150.com/  at your earliest convenience and discover how you can be part of this historic celebration.
X-ALT-DESC;FMTTYPE=text/html:<strong><span style="font-family:verdana\,sans-serif\;"><span style="font-size:9.0pt\;">&nbsp\; &nbsp\; &nbsp\; &nbsp\; &nbsp\; &nbsp\; &nbsp\; &nbsp\; &nbsp\; &nbsp\; &nbsp\; &nbsp\; &nbsp\; &nbsp\; &nbsp\; &nbsp\; &nbsp\; &nbsp\; &nbsp\; &nbsp\; &nbsp\; &nbsp\; &nbsp\; &nbsp\; &nbsp\; &nbsp\; &nbsp\; &nbsp\; &nbsp\; &nbsp\; &nbsp\;</span></span></strong><br />\n<span style="font-family:verdana\,sans-serif\;"><span style="font-size:9.0pt\;"><strong>Nanaimo&rsquo\;s Canada 150 Legacy Project and Events Funding Announced</strong><br />\n<br />\nThe Canada 150 theme is&nbsp\;<em>Strong. Proud. Free</em>&nbsp\;and our citizens will have the opportunity to Celebrate together to connect to our past\, embrace the present\, and build toward the future.<br />\n&nbsp\;<br />\n<strong>TUESDAY\, FEBRUARY 14\, 2017</strong>&nbsp\;- On Monday February 6\, Nanaimo Canada 150 Committee Co-chairs\, Diana Johnstone and Wally Wells\, solidified an additional $75\,000 from the City of Nanaimo ensuring that a total of $105\,000 contributed by the City will go towards Canada 150 legacy projects and events in Nanaimo.&nbsp\; The Committee has also secured a $2000 sponsorship funding from The Nanaimo Airport\, $2000 from Coastal Community Credit Union as well as $18\,750 from the Tourism Nanaimo Fund in 2016.<br />\n<br />\nThe Nanaimo Canada 150 website is now available for various community partners to get information about how to be a part of the celebration as a sponsor or to submit their events to be a part of the official Canada 150 Calendar of Events. These events will be showcased in various promotional materials leading up to July 1<sup>st</sup>&nbsp\;and available on the website throughout the entire year. &nbsp\;More information can be found at&nbsp\;<a href="http://dnbia.us1.list-manage.com/track/click?u=942a93233831c099f974aa62f&amp\;id=50e5f06471&amp\;e=0a9a6c935e"><span style="color:#666666\;">www.nanaimo150.com/</span></a><br />\n<br />\nDiana Johnstone states\, &ldquo\;With great support from the Nanaimo volunteer Canada 150 Committee\, we will continue to fund raise and meet with various businesses to ensure that we may provide a great legacy for the Nanaimo community.&rdquo\;<br />\n<br />\nNanaimo&rsquo\;s volunteer Canada 150 Committee has been hard at work since 2015 implementing various initiatives and projects to ensure Nanaimo is included in the Canada 150 activities held nation-wide. On July 1\, 2017\, The City of Nanaimo will host its annual Community Event at Maffeo Sutton Park as it does every Canada Day. However\, this year there will be very special additions to the event throughout the day implemented by the Nanaimo Canada 150 Committee. This includes:</span></span>\n<ul>\n	<li style="line-height:13.5pt\;"><span style="font-family:verdana\,sans-serif\;"><span style="font-size:9.0pt\;">Fireworks Celebrations at the Nanaimo Harbour</span></span></li>\n	<li style="line-height:13.5pt\;"><span style="font-family:verdana\,sans-serif\;"><span style="font-size:9.0pt\;">Vignettes of Musical Review Legacy Performance&nbsp\;<strong>&ldquo\;Blackstones &amp\; Bathtubs: A Musical Revue of the Town You Never Knew&rdquo\;</strong>&nbsp\;at Maffeo Sutton Park</span></span></li>\n	<li style="line-height:13.5pt\;"><span style="font-family:verdana\,sans-serif\;"><span style="font-size:9.0pt\;">Search and Rescue demonstration involving our local marine team along with staff and fly overs from CFB Comox at Maffeo Sutton Park</span></span></li>\n	<li style="line-height:13.5pt\;"><span style="font-family:verdana\,sans-serif\;"><span style="font-size:9.0pt\;">Storing Telling by new Canadian citizens at Maffeo Sutton Park</span></span></li>\n	<li style="line-height:13.5pt\;"><span style="font-family:verdana\,sans-serif\;"><span style="font-size:9.0pt\;">Canadian Letter Exhibit: Nanaimo Museum &amp\; VIU</span></span></li>\n	<li style="line-height:13.5pt\;"><span style="font-family:verdana\,sans-serif\;"><span style="font-size:9.0pt\;">Canada 150 Choir: 150 Voices featuring iconic Canadian Songs</span></span></li>\n	<li style="line-height:13.5pt\;"><span style="font-family:verdana\,sans-serif\;"><span style="font-size:9.0pt\;">Multiple Canada 150 themed activities displays and performances</span></span></li>\n	<li style="line-height:13.5pt\;"><span style="font-family:verdana\,sans-serif\;"><span style="font-size:9.0pt\;">H.M.C.S Nanaimo of the Royal Canadian Navy</span></span></li>\n	<li style="line-height:13.5pt\;"><span style="font-family:verdana\,sans-serif\;"><span style="font-size:9.0pt\;">Information about outreach programs in schools</span></span></li>\n</ul>\n<span style="font-family:verdana\,sans-serif\;"><span style="font-size:9.0pt\;">In addition to all the exciting events happening on July 1\, The Nanaimo Canada 150 Committee will be introducing a legacy program called&nbsp\;<strong>&ldquo\;Blackstones &amp\; Bathtubs: A Musical Revue of the Town You Never Knew.&rdquo\;</strong>&nbsp\;This very special legacy project is a musical revue and stage performance showcasing Nanaimo&rsquo\;s historic past. The project is currently in production and is a complete design of Razzle Dazzle Productions. This will be a legacy project that will continue to be showcased every year during the month of July to draw tourists and locals to learn about the deep-rooted history of Nanaimo.<br />\n<br />\nWe encourage all our citizens to be part of the Celebration of our country&#39\;s 150th Anniversary of Confederation. This is going to be a party you will not want to miss!<br />\n&nbsp\;<br />\nPlease contact 250-754-8141 or visit&nbsp\;<a href="http://dnbia.us1.list-manage.com/track/click?u=942a93233831c099f974aa62f&amp\;id=7cddbf40d4&amp\;e=0a9a6c935e"><span style="color:#666666\;">www.nanaimo150.com/</span></a>&nbsp\; at your earliest convenience and discover how you can be part of this historic celebration.</span></span><br />\n<br />\n&nbsp\;
LOCATION:Vancouver Island Conference Centre
UID:e.1345.490
SEQUENCE:3
DTSTAMP:20260419T174252Z
URL:https://members.nanaimochamber.bc.ca/events/details/monthly-luncheon-canada-150-490
END:VEVENT

END:VCALENDAR
