BEGIN:VCALENDAR
VERSION:2.0
PRODID:-//ChamberMaster//Event Calendar 2.0//EN
METHOD:PUBLISH
X-PUBLISHED-TTL:P3D
REFRESH-INTERVAL:P3D
CALSCALE:GREGORIAN
BEGIN:VEVENT
DTSTART:20120113T180000Z
DTEND:20120113T190000Z
X-MICROSOFT-CDO-ALLDAYEVENT:FALSE
SUMMARY:Minister Kevin Falcon visit
DESCRIPTION:The Greater Nanaimo Chamber of Commerce and the Vancouver Island Real Estate Board are pleased to announce that the Honourable Kevin Falcon\, Minister of Finance and Deputy Premier of the Province of British Columbia will be in Nanaimo Friday\, January 13.\n\n \n\nAt a reception to be held at the Vancouver Island Conference Centre\, Min. Falcon will reflect upon the external factors that present a risk for the provincial outlook and share options for British Columbians to keep B.C.'s economy growing strong in 2012.\n\n \n\nPre-registration required\; call the Chamber office\, 250-756-1191 to register.
X-ALT-DESC;FMTTYPE=text/html:<span style="font-size: 11px"><span style="font-family: arial">The <strong>Greater Nanaimo Chamber of Commerce</strong> and the <strong>Vancouver Island Real Estate Board</strong> are pleased to announce that <span style="color: #1f497d">t</span>he Honourable Kevin Falcon\, Minister of Finance and Deputy Premier of the Province of British Columbia will be in Nanaimo Friday\, January 13.<br />\n&nbsp\;<br />\nAt a reception to be held at the Vancouver Island Conference Centre\, Min. Falcon will reflect upon the external factors that present a risk for the provincial outlook and share options for British Columbians to keep B.C.&rsquo\;s economy growing strong in 2012.<br />\n&nbsp\;<br />\n<strong>Pre-registration required\; call the Chamber office\, 250-756-1191 to register.</strong></span></span><br />\n
LOCATION:Newcastle Island Lobby\, Vancouver Island Conference Centre\, 101 Gordon Street\, Nanaimo\, BC
UID:e.1345.9
SEQUENCE:3
DTSTAMP:20260423T223059Z
URL:https://members.nanaimochamber.bc.ca/events/details/minister-kevin-falcon-visit-01-13-2012-9
END:VEVENT

END:VCALENDAR
