BEGIN:VCALENDAR
VERSION:2.0
PRODID:-//ChamberMaster//Event Calendar 2.0//EN
METHOD:PUBLISH
X-PUBLISHED-TTL:P3D
REFRESH-INTERVAL:P3D
CALSCALE:GREGORIAN
BEGIN:VEVENT
DTSTART:20160810T183000Z
DTEND:20160810T200000Z
X-MICROSOFT-CDO-ALLDAYEVENT:FALSE
SUMMARY:Membership Luncheon - Simon Holt
DESCRIPTION:Simon Holt\n\nCome and enjoy a casual networking event! You must choose your menu selection and register prior to August 3rd. Only 100 guests are able to attend so register today.\n\n\n\nDragon Bowl\n\nAsian Vegetables\, fresh pineapple\, cashews\, bean sprouts\, scallions & jasmine rice & smoked tofu. (Vegetarian option).\n\n \n\nCaesar Salad \n\nTuscan greens\, croutons\, shaved parmesan\n\n \n\nThe Classic Cheese Burger\n\nHandmade chuck burger\, white cheddar\, burger sauce\, red relish\, lettuce\, tomato & red onion on a brioche bun\, with fries & salad.\n\n \n\nThe Long Board \n\nGrilled chicken breast\, smoked mozzarella\, Pico de Gallo\, guacamole\, butter lettuce & chipotle aioli on a toasted brioche bun with fries & salad.\n\n \n\nPlus your choice of 1\n\n \n\nPint of Canadian\n\nPint of Coors Light \n\n5oz glass of house Red or White Wine\n\npop\n\nTea/coffee
X-ALT-DESC;FMTTYPE=text/html:<strong>Simon Holt</strong><br />\nCome and enjoy a casual networking event! You must choose your menu selection and register prior to August 3rd. Only 100 guests are able to attend so register today.<br />\n<br />\n<strong><em><span style="font-family:tahoma\,sans-serif\;">Dragon Bowl</span></em></strong><br />\n<em><span style="font-family:tahoma\,sans-serif\;">Asian Vegetables\, fresh pineapple\, cashews\, bean sprouts\, scallions &amp\; jasmine rice &amp\; smoked tofu. (Vegetarian option).</span></em><br />\n&nbsp\;<br />\n<strong><em><span style="font-family:tahoma\,sans-serif\;">Caesar Salad </span></em></strong><br />\n<em><span style="font-family:tahoma\,sans-serif\;">Tuscan greens\, croutons\, shaved parmesan</span></em><br />\n<em><span style="font-family:tahoma\,sans-serif\;">&nbsp\;</span></em><br />\n<strong><em><span style="font-family:tahoma\,sans-serif\;">The Classic Cheese Burger</span></em></strong><br />\n<em><span style="font-family:tahoma\,sans-serif\;">Handmade chuck burger\, white cheddar\, burger sauce\, red relish\, lettuce\, tomato &amp\; red onion on a brioche bun\, with fries &amp\; salad.</span></em><br />\n&nbsp\;<br />\n<strong><em><span style="font-family:tahoma\,sans-serif\;">The Long Board </span></em></strong><br />\n<em><span style="font-family:tahoma\,sans-serif\;">Grilled chicken breast\, smoked mozzarella\, Pico de Gallo\, guacamole\, butter lettuce &amp\; chipotle aioli on a toasted brioche bun with fries &amp\; salad.</span></em><br />\n&nbsp\;<br />\n<strong><em><span style="font-family:tahoma\,sans-serif\;"><span style="font-size:14.0pt\;">Plus your choice of 1</span></span></em></strong><br />\n&nbsp\;<br />\n<strong><em><span style="font-family:tahoma\,sans-serif\;">Pint of Canadian</span></em></strong><br />\n<strong><em><span style="font-family:tahoma\,sans-serif\;">Pint of Coors Light </span></em></strong><br />\n<strong><em><span style="font-family:tahoma\,sans-serif\;">5oz glass of house Red or White Wine</span></em></strong><br />\n<strong><em><span style="font-family:tahoma\,sans-serif\;">pop</span></em></strong><br />\n<strong><em><span style="font-family:tahoma\,sans-serif\;">Tea/coffee</span></em></strong><br />\n<br />\n<br />\n&nbsp\;
LOCATION:6582 Applecross Rd
UID:e.1345.441
SEQUENCE:3
DTSTAMP:20260420T064107Z
URL:https://members.nanaimochamber.bc.ca/events/details/membership-luncheon-simon-holt-08-10-2016-441
END:VEVENT

END:VCALENDAR
