BEGIN:VCALENDAR
VERSION:2.0
PRODID:-//ChamberMaster//Event Calendar 2.0//EN
METHOD:PUBLISH
X-PUBLISHED-TTL:P3D
REFRESH-INTERVAL:P3D
CALSCALE:GREGORIAN
BEGIN:VEVENT
DTSTART:20160914T183000Z
DTEND:20160914T200000Z
X-MICROSOFT-CDO-ALLDAYEVENT:FALSE
SUMMARY:Membership Luncheon
DESCRIPTION:Guest Speaker and Sponsor\n\nVancouver Airport Authority\n\nJohn Lenahan\, Director\, Engineering Projects\, Vancouver Airport Authority will present at the luncheon. John is one of the key directors working on our Master Plan for YVR. He'll focus on YVR's strategy as a world-class sustainable airport and then talk about our Master Plan: YVR 2037. During September and October\, we will be completing Phase II of public and stakeholder consultation and engagement to help us create our new Master Plan and make sure that we are involving British Columbians as we build our plan. Phase II has six key focus areas: Terminals\, Airside and Airspace\, Ground Access\, Amenities\, Environment and Land Use. John will highlight each of these areas as we consider transportation as a whole ensuring we meet YVR's mission to connect B.C. proudly to the world.
X-ALT-DESC;FMTTYPE=text/html:<strong>Guest Speaker and Sponsor<br />\nVancouver Airport Authority</strong><br />\n<span style="font-family:arial\,sans-serif\;"><span style="font-size:10.0pt\;">John Lenahan\, Director\, Engineering Projects\, Vancouver Airport Authority will present at the luncheon. John is one of the key directors working on our Master Plan for YVR. He&rsquo\;ll focus on YVR&rsquo\;s strategy as a world-class sustainable airport and then talk about our Master Plan: YVR 2037. During September and October\, we will be completing Phase II of public and stakeholder consultation and engagement to help us create our new Master Plan and make sure that we are involving British Columbians as we build our plan. Phase II has six key focus areas: Terminals\, Airside and Airspace\, Ground Access\, Amenities\, Environment and Land Use. John will highlight each of these areas as we consider transportation as a whole ensuring we meet YVR&rsquo\;s mission to connect B.C. proudly to the world. &nbsp\;</span></span><br />\n<br />\n<br />\n<br />\n&nbsp\;
LOCATION:Coast Bastion Hotel 11 Bastion St
UID:e.1345.442
SEQUENCE:3
DTSTAMP:20260420T050327Z
URL:https://members.nanaimochamber.bc.ca/events/details/membership-luncheon-09-14-2016-442
END:VEVENT

END:VCALENDAR
