BEGIN:VCALENDAR
VERSION:2.0
PRODID:-//ChamberMaster//Event Calendar 2.0//EN
METHOD:PUBLISH
X-PUBLISHED-TTL:P3D
REFRESH-INTERVAL:P3D
CALSCALE:GREGORIAN
BEGIN:VEVENT
DTSTART:20160608T180000Z
DTEND:20160608T200000Z
X-MICROSOFT-CDO-ALLDAYEVENT:FALSE
SUMMARY:Membership Luncheon
DESCRIPTION:
X-ALT-DESC;FMTTYPE=text/html:<br />\n<br />\n<br />\n<br />\n&nbsp\;
LOCATION:Coast Bastion Hotel 11 Bastion Street Downtown Nanaimo
UID:e.1345.439
SEQUENCE:3
DTSTAMP:20260420T082311Z
URL:https://members.nanaimochamber.bc.ca/events/details/membership-luncheon-06-08-2016-439
END:VEVENT

END:VCALENDAR
