BEGIN:VCALENDAR
VERSION:2.0
PRODID:-//ChamberMaster//Event Calendar 2.0//EN
METHOD:PUBLISH
X-PUBLISHED-TTL:P3D
REFRESH-INTERVAL:P3D
CALSCALE:GREGORIAN
BEGIN:VEVENT
DTSTART:20160511T183000Z
DTEND:20160511T200000Z
X-MICROSOFT-CDO-ALLDAYEVENT:FALSE
SUMMARY:Membership Luncheon
DESCRIPTION:Guest Speaker\n\nDr. Yim's Educational Background\nSponsored by 460 Communications\n\nA lifelong interest in health and nutrition led Dr. Yim initially to massage therapy. \n\nAfter a four-year intensive program and practicum\, he opened his own practice as a registered massage therapist in Nanaimo\, BC.\n\nDuring his seven years as a RMT he realized that he could only take people so far in their health journey.  He was able to successfully assist them with physical and structural issues\, but felt there was a missing component.\n\nIn 1987 he began studies at Malaspina University-College\, now Vancouver Island University for prerequisites to attend medical school.\n\nAfter working as an RMT and attending classes at the university he and his family moved to Seattle so he could attend the prestigious\, Bastyr University. He proudly received his doctorate in naturopathic medicine after four years with top honours.\n\nAfter completing the rigorous provincial board exams the college requires each graduate complete\, Dr. Yim established his clinic and practice back home in Nanaimo\, B.C.\n\nSince 1994\, Dr. Yim has been helping people regain and maintain optimal health naturally. He has earned a respected name and reputation for providing exceptional health care.
X-ALT-DESC;FMTTYPE=text/html:<h2 style="margin: 6px 0px 14px\; font-size: 22.1px\; font-family: Verdana\, Geneva\, sans-serif\; text-align: center\; background-color: rgb(255\, 255\, 255)\;"><span style="font-size: 19px\;">Guest Speaker<br />\nDr. Yim&#39\;s Educational Background</span></h2>\n<span style="font-size:14px\;"><strong>Sponsored by 460 Communications</strong></span>\n\n<p style="font-family: Verdana\, Geneva\, sans-serif\; font-size: 13px\; line-height: 16.9px\; background-color: rgb(255\, 255\, 255)\;"><span style="font-family: verdana\; font-size: 9pt\;">A lifelong interest in health and nutrition led Dr. Yim initially to massage therapy.&nbsp\;</span></p>\n\n<p style="font-family: Verdana\, Geneva\, sans-serif\; font-size: 13px\; line-height: 16.9px\; background-color: rgb(255\, 255\, 255)\;"><span style="font-size: 9pt\; font-family: verdana\;">After a four-year intensive program and practicum\, he opened his own practice as a registered massage therapist in Nanaimo\, BC.</span></p>\n\n<p style="font-family: Verdana\, Geneva\, sans-serif\; font-size: 13px\; line-height: 16.9px\; background-color: rgb(255\, 255\, 255)\;"><span style="font-family: verdana\; font-size: 9pt\;">During his seven years as a RMT he realized that he could only take people so far in their health journey. &nbsp\;He was able to successfully assist them with physical and structural issues\, but felt there was a missing component.</span></p>\n\n<p style="font-family: Verdana\, Geneva\, sans-serif\; font-size: 13px\; line-height: 16.9px\; background-color: rgb(255\, 255\, 255)\;"><span style="font-family: verdana\; font-size: 9pt\;">In 1987 he began studies at Malaspina University-College\, now Vancouver Island University&nbsp\;for prerequisites to attend medical school.</span></p>\n\n<p style="font-family: Verdana\, Geneva\, sans-serif\; font-size: 13px\; line-height: 16.9px\; background-color: rgb(255\, 255\, 255)\;"><span style="font-family: verdana\; font-size: 9pt\;">After working as an RMT and attending classes at the university he and his family moved to Seattle so he could attend the prestigious\, Bastyr University. He proudly received his doctorate in naturopathic medicine after four years with top honours.</span></p>\n\n<p style="font-family: Verdana\, Geneva\, sans-serif\; font-size: 13px\; line-height: 16.9px\; background-color: rgb(255\, 255\, 255)\;"><span style="font-family: verdana\; font-size: 9pt\;">After completing the rigorous provincial board exams the college requires each graduate complete\, Dr. Yim established his clinic and practice back home in Nanaimo\, B.C.</span></p>\n\n<p style="font-family: Verdana\, Geneva\, sans-serif\; font-size: 13px\; line-height: 16.9px\; background-color: rgb(255\, 255\, 255)\;"><span style="font-size: 9pt\; font-family: verdana\;">Since 1994\, Dr. Yim has been helping people regain and maintain optimal health naturally. He has earned a respected name and reputation for providing exceptional health care.</span></p>\n<br />\n&nbsp\;
LOCATION:Coast Bastion Hotel 11 Bastion Street Speaker: John Yim -- Naturopathic Health Sponsored by: 460 Communications
UID:e.1345.438
SEQUENCE:3
DTSTAMP:20260420T112603Z
URL:https://members.nanaimochamber.bc.ca/events/details/membership-luncheon-05-11-2016-438
END:VEVENT

END:VCALENDAR
