BEGIN:VCALENDAR
VERSION:2.0
PRODID:-//ChamberMaster//Event Calendar 2.0//EN
METHOD:PUBLISH
X-PUBLISHED-TTL:P3D
REFRESH-INTERVAL:P3D
CALSCALE:GREGORIAN
BEGIN:VEVENT
DTSTART:20160210T193000Z
DTEND:20160210T210000Z
X-MICROSOFT-CDO-ALLDAYEVENT:FALSE
SUMMARY:Membership Luncheon
DESCRIPTION:Speaker - Peter Sinclair\, Loaves and Fishes\n\n\n\nSponsor - Vancouver Island University
X-ALT-DESC;FMTTYPE=text/html:Speaker - Peter Sinclair\,&nbsp\;Loaves and Fishes<br />\n<br />\nSponsor - Vancouver Island University<br />\n&nbsp\;
LOCATION:Vancouver Island Conference Centre
UID:e.1345.247
SEQUENCE:3
DTSTAMP:20260420T161048Z
URL:https://members.nanaimochamber.bc.ca/events/details/membership-luncheon-02-10-2016-247
END:VEVENT

END:VCALENDAR
