BEGIN:VCALENDAR
VERSION:2.0
PRODID:-//ChamberMaster//Event Calendar 2.0//EN
METHOD:PUBLISH
X-PUBLISHED-TTL:P3D
REFRESH-INTERVAL:P3D
CALSCALE:GREGORIAN
BEGIN:VEVENT
DTSTART;VALUE=DATE:20140514
DTEND;VALUE=DATE:20140515
TRANSP:TRANSPARENT
X-MICROSOFT-CDO-ALLDAYEVENT:TRUE
SUMMARY:May Membership Luncheon
DESCRIPTION:Membership Luncheon\n\nTime: Buffet lunch begins 11:30am\n\nWhere: Coast Bastion Inn\, 11 Bastion St.\n\nSpeaker: Brenden Kennedy\,Tilray (Medical Marijuana Facility at Duke Point)\n\nSponsor: StaffQuest Placement Group Inc.\n\nCost: Members: $34.00 (+ GST)\; Non-Members: $50.00 (+ GST)\n\nPlease Note: Pre-payment and Reservations required. Refunds will be issued with 24 hours notice.\n\n\n\nAbout Tilray:\n\nStarting with a $3 million investment to purchase a building at Duke Point\, another $6 million in modifications\, some 60 employees hired and hard at work and collateral economic activity like shipping\, goods and services\, travel and hospitality one could say that one of Nanaimo's newest businesses is definitely in a 'growth' mode   so to speak.\n\n \n\nTilray shipped its first medicinal marijuana during its opening launch in Nanaimo in April. Now they anticipate producing more than 8\,000 pounds of medical cannabis for Canadian patients in 2014. With that\, staffing at their Nanaimo facility will grow to around 100.\n\n \n\nTilray's focus is on bringing a new level of professionalism\, consistency and patient-focused service to Canada's medical cannabis market. It's expected that this commitment will continue to result in positive economic spinoffs for Nanaimo.\n\n \n\nLet's welcome CEO Brendan Kennedy\, and other corporate principals\, to our May luncheon to hear the story of how Tilray is leading an industry in a major transition from the days of Cheech & Chong and mom & pop grow-ops to cutting edge technologies dedicating to assisting a growing list of patients in Canada.
X-ALT-DESC;FMTTYPE=text/html:<span style="font-size: 12px"><span style="font-family: arial"><span style="color: #2891d6"><b>Membership Luncheon</b></span></span></span><br />\n<strong>Time: </strong>Buffet lunch begins 11:30am<br />\n<strong>Where: </strong>Coast Bastion Inn\, 11 Bastion St.<br />\n<strong>Speaker: </strong>Brenden Kennedy\,Tilray (Medical Marijuana Facility at Duke Point)<br />\n<strong>Sponsor:</strong> StaffQuest Placement Group Inc.<br />\n<strong>Cost:&nbsp\;</strong>Members:<strong>&nbsp\;</strong>$34.00 (+ GST)\; Non-Members: $50.00&nbsp\;(+ GST)<br />\n<em><strong>Please Note: Pre-payment and Reservations required. Refunds will be issued with 24 hours notice.</strong></em><br />\n<br />\n<strong>About Tilray:</strong><br />\nStarting with a $3 million investment to purchase a building at Duke Point\, another $6 million in modifications\, some 60 employees hired and hard at work and collateral economic activity like shipping\, goods and services\, travel and hospitality one could say that one of Nanaimo&rsquo\;s newest businesses is definitely in a &lsquo\;growth&rsquo\; mode &ndash\; so to speak.<br />\n&nbsp\;<br />\nTilray shipped its first medicinal marijuana during its opening launch in Nanaimo in April. Now they anticipate producing more than 8\,000 pounds of medical cannabis for Canadian patients in 2014. With that\, staffing at their Nanaimo facility will grow to around 100.<br />\n&nbsp\;<br />\nTilray&#39\;s focus is on bringing a new level of professionalism\, consistency and patient-focused service to Canada&#39\;s medical cannabis market. It&rsquo\;s expected that this commitment will continue to result in positive economic spinoffs for Nanaimo.<br />\n&nbsp\;<br />\nLet&rsquo\;s welcome CEO Brendan Kennedy\, and other corporate principals\, to our May luncheon to hear the story of how Tilray is leading an industry in a major transition from the days of Cheech &amp\; Chong and mom &amp\; pop grow-ops to cutting edge technologies dedicating to assisting a growing list of patients in Canada.
LOCATION:Coast Bastion Inn\, 11 Bastion St.
UID:e.1345.124
SEQUENCE:3
DTSTAMP:20260422T021558Z
URL:https://members.nanaimochamber.bc.ca/events/details/may-membership-luncheon-05-14-2014-124
END:VEVENT

END:VCALENDAR
