BEGIN:VCALENDAR
VERSION:2.0
PRODID:-//ChamberMaster//Event Calendar 2.0//EN
METHOD:PUBLISH
X-PUBLISHED-TTL:P3D
REFRESH-INTERVAL:P3D
CALSCALE:GREGORIAN
BEGIN:VEVENT
DTSTART:20120509T183000Z
DTEND:20120509T200000Z
X-MICROSOFT-CDO-ALLDAYEVENT:FALSE
SUMMARY:May Membership Luncheon
DESCRIPTION:Membership Luncheon\n\nTime: Buffet lunch begins 11:30am\n\nWhere: The Grand Hotel\n\nSpeaker: Don Thompson\, Oil Sands Dev. Group\n\nTopic: TBA\n\nSponsor: Tofino Air\n\nCost: Members: $31.25 (+ HST)\; Non-Members: $45.00 (+ HST)\n\nPlease Note: Pre-payment and Reservations required. Refunds will be issued with 24 hours notice.
X-ALT-DESC;FMTTYPE=text/html:<span style="font-size: 12px"><span style="font-family: arial"><span style="color: #2891d6"><b>Membership Luncheon</b></span></span></span><br />\n<strong>Time: </strong>Buffet lunch begins 11:30am<br />\n<strong>Where: </strong>The Grand Hotel<br />\n<strong>Speaker:&nbsp\;</strong>Don Thompson\, Oil Sands Dev. Group<br />\n<strong>Topic:</strong>&nbsp\;TBA<br />\n<strong>Sponsor:&nbsp\;</strong>Tofino Air<br />\n<strong>Cost:&nbsp\;</strong>Members:<strong>&nbsp\;</strong>$31.25 (+ HST)\; Non-Members: $45.00&nbsp\;(+ HST)<br />\n<em><strong>Please Note: Pre-payment and Reservations required. Refunds will be issued with 24 hours notice.</strong></em>
LOCATION:The Grand Hotel\, 4898 Rutherford Rd.
UID:e.1345.19
SEQUENCE:3
DTSTAMP:20260423T181409Z
URL:https://members.nanaimochamber.bc.ca/events/details/may-membership-luncheon-05-09-2012-19
END:VEVENT

END:VCALENDAR
