BEGIN:VCALENDAR
VERSION:2.0
PRODID:-//ChamberMaster//Event Calendar 2.0//EN
METHOD:PUBLISH
X-PUBLISHED-TTL:P3D
REFRESH-INTERVAL:P3D
CALSCALE:GREGORIAN
BEGIN:VEVENT
DTSTART;VALUE=DATE:20130508
DTEND;VALUE=DATE:20130509
TRANSP:TRANSPARENT
X-MICROSOFT-CDO-ALLDAYEVENT:TRUE
SUMMARY:May Membership Luncheon
DESCRIPTION:Membership Luncheon\n\nTime: Buffet lunch begins 11:30am\n\nWhere: Coast Bastion Inn\, 11 Bastion St.\n\nSpeaker: Robert Buller\, Reikos International\, Publishers Inc.\n\nTopic:  Word of Mouth Referrals - and how to get them\n\nSponsor: Supporting Employment Transitions\n\nCost: Members: $33.48 (+ GST)\; Non-Members: $50.00 (+ GST)\n\nPlease Note: Pre-payment and Reservations required. Refunds will be issued with 24 hours notice.
X-ALT-DESC;FMTTYPE=text/html:<span style="font-size: 12px"><span style="font-family: arial"><span style="color: #2891d6"><b>Membership Luncheon</b></span></span></span><br />\n<strong>Time: </strong>Buffet lunch begins 11:30am<br />\n<strong>Where: </strong>Coast Bastion Inn\, 11 Bastion St.<br />\n<strong>Speaker: </strong>Robert Buller\, Reikos International\, Publishers Inc.<br />\n<strong>Topic:&nbsp\;</strong> Word of Mouth Referrals - and how to get them<br />\n<strong>Sponsor: </strong>Supporting Employment Transitions<br />\n<strong>Cost:&nbsp\;</strong>Members:<strong>&nbsp\;</strong>$33.48 (+ GST)\; Non-Members: $50.00&nbsp\;(+ GST)<br />\n<em><strong>Please Note: Pre-payment and Reservations required. Refunds will be issued with 24 hours notice.</strong></em>
LOCATION:Coast Bastion Inn\, 11 Bastion St.
UID:e.1345.66
SEQUENCE:3
DTSTAMP:20260422T210956Z
URL:https://members.nanaimochamber.bc.ca/events/details/may-membership-luncheon-05-08-2013-66
END:VEVENT

END:VCALENDAR
