BEGIN:VCALENDAR
VERSION:2.0
PRODID:-//ChamberMaster//Event Calendar 2.0//EN
METHOD:PUBLISH
X-PUBLISHED-TTL:P3D
REFRESH-INTERVAL:P3D
CALSCALE:GREGORIAN
BEGIN:VEVENT
DTSTART:20140521T143000Z
DTEND:20140521T153000Z
X-MICROSOFT-CDO-ALLDAYEVENT:FALSE
SUMMARY:May Business before Business
DESCRIPTION:Morning networking event\, no cost to attend. Bring lots of business cards and network with your fellow Chamber members and business professionals.\n\n\n\nWhere: Inn on Long Lake\, 4700 N. Island Hwy.\n\n\n\nAdmission by donation to the Loaves & Fishes Food Bank
X-ALT-DESC;FMTTYPE=text/html:<div style="color: gray"><span style="color:#000000\;">Morning networking event\, no cost to attend. Bring lots of business cards and network with your fellow Chamber members and business professionals.<br />\n<br />\n<strong>Where:</strong> Inn on Long Lake\,</span> <span style="color:#000000\;">4700 N. Island Hwy.<br />\n<br />\nAdmission by donation to the Loaves &amp\; Fishes Food Bank</span><br />\n<br />\n&nbsp\;</div>\n
LOCATION:Inn on Long Lake 4700 N. Island Hwy.
UID:e.1345.152
SEQUENCE:3
DTSTAMP:20260422T021728Z
URL:https://members.nanaimochamber.bc.ca/events/details/may-business-before-business-05-21-2014-152
END:VEVENT

END:VCALENDAR
