BEGIN:VCALENDAR
VERSION:2.0
PRODID:-//ChamberMaster//Event Calendar 2.0//EN
METHOD:PUBLISH
X-PUBLISHED-TTL:P3D
REFRESH-INTERVAL:P3D
CALSCALE:GREGORIAN
BEGIN:VEVENT
DTSTART:20150520T143000Z
DTEND:20150520T153000Z
X-MICROSOFT-CDO-ALLDAYEVENT:FALSE
SUMMARY:May Business before Business
DESCRIPTION:Morning networking event\, no cost to attend. Bring lots of business cards and network with your fellow Chamber members and business professionals.\n\n\n\nWhere: Full on Fitness\, 8D-2220 Bowen Rd.\n\n\n\nAdmission by donation to the local food banks
X-ALT-DESC;FMTTYPE=text/html:<div style="color: gray"><span style="color:#000000\;">Morning networking event\, no cost to attend. Bring lots of business cards and network with your fellow Chamber members and business professionals.<br />\n<br />\n<strong>Where:</strong> Full on Fitness\, 8D-2220 Bowen Rd.</span><br />\n<br />\n<span style="color:#000000\;">Admission by donation to the local food banks</span><br />\n<br />\n&nbsp\;</div>\n
LOCATION:Full on Fitness 8D-2220 Bowen Rd.
UID:e.1345.206
SEQUENCE:3
DTSTAMP:20260421T044853Z
URL:https://members.nanaimochamber.bc.ca/events/details/may-business-before-business-05-20-2015-206
END:VEVENT

END:VCALENDAR
