BEGIN:VCALENDAR
VERSION:2.0
PRODID:-//ChamberMaster//Event Calendar 2.0//EN
METHOD:PUBLISH
X-PUBLISHED-TTL:P3D
REFRESH-INTERVAL:P3D
CALSCALE:GREGORIAN
BEGIN:VEVENT
DTSTART:20120516T143000Z
DTEND:20120516T153000Z
X-MICROSOFT-CDO-ALLDAYEVENT:FALSE
SUMMARY:May Business before Business
DESCRIPTION:Morning networking event\, no cost to attend. Bring lots of business cards and network with your fellow Chamber members and business professionals.\n\n	\n\n	Where: Nanaimo Child Development Centre
X-ALT-DESC;FMTTYPE=text/html:<div style="color: gray">\n	Morning networking event\, no cost to attend. Bring lots of business cards and network with your fellow Chamber members and business professionals.<br />\n	<br />\n	<strong>Where:</strong>&nbsp\;Nanaimo Child&nbsp\;Development Centre</div>\n
LOCATION:Nanaimo Child Development Centre\, 1135 Nelson St.
UID:e.1345.20
SEQUENCE:3
DTSTAMP:20260423T164019Z
URL:https://members.nanaimochamber.bc.ca/events/details/may-business-before-business-05-16-2012-20
END:VEVENT

END:VCALENDAR
