BEGIN:VCALENDAR
VERSION:2.0
PRODID:-//ChamberMaster//Event Calendar 2.0//EN
METHOD:PUBLISH
X-PUBLISHED-TTL:P3D
REFRESH-INTERVAL:P3D
CALSCALE:GREGORIAN
BEGIN:VEVENT
DTSTART:20140530T000000Z
DTEND:20140530T020000Z
X-MICROSOFT-CDO-ALLDAYEVENT:FALSE
SUMMARY:May Business after Business
DESCRIPTION:Evening networking event\, no cost to attend. Bring lots of business cards and network with your fellow Chamber members and business professionals.\n\n\n\nWhere: Andrew Sheret\, 2545 McCullough Rd.\n\n\n\nAdmission by donation to the Loaves & Fishes Food Bank
X-ALT-DESC;FMTTYPE=text/html:<div style="color: gray"><span style="color:#000000\;">Evening networking event\, no cost to attend. Bring lots of business cards and network with your fellow Chamber members and business professionals.<br />\n<br />\n<strong>Where:</strong> Andrew Sheret\, 2545 McCullough Rd.</span><br />\n<br />\n<span style="color:#000000\;">Admission by donation to the Loaves &amp\; Fishes Food Ban</span>k</div>\n
LOCATION:Andrew Sheret\, 2545 McCullough Rd.
UID:e.1345.125
SEQUENCE:3
DTSTAMP:20260422T003518Z
URL:https://members.nanaimochamber.bc.ca/events/details/may-business-after-business-05-29-2014-125
END:VEVENT

END:VCALENDAR
