BEGIN:VCALENDAR
VERSION:2.0
PRODID:-//ChamberMaster//Event Calendar 2.0//EN
METHOD:PUBLISH
X-PUBLISHED-TTL:P3D
REFRESH-INTERVAL:P3D
CALSCALE:GREGORIAN
BEGIN:VEVENT
DTSTART:20150529T000000Z
DTEND:20150529T020000Z
X-MICROSOFT-CDO-ALLDAYEVENT:FALSE
SUMMARY:May Business after Business
DESCRIPTION:Evening networking event\, no cost to attend. Bring lots of business cards and network with your fellow Chamber members and business professionals.\n\n\n\nWhere: Investors Group\, 101-5070 Uplands Dr.\n\n\n\nAdmission by donation to the local food banks.
X-ALT-DESC;FMTTYPE=text/html:<div style="color: gray"><span style="color:#000000\;">Evening networking event\, no cost to attend. Bring lots of business cards and network with your fellow Chamber members and business professionals.<br />\n<br />\n<strong>Where:</strong> Investors Group\, 101-5070 Uplands Dr.</span><br />\n<br />\n<span style="color:#000000\;">Admission by donation to the local food banks.</span></div>\n
LOCATION:Investors Group 101-5070 Uplands Dr.
UID:e.1345.207
SEQUENCE:3
DTSTAMP:20260421T045133Z
URL:https://members.nanaimochamber.bc.ca/events/details/may-business-after-business-05-28-2015-207
END:VEVENT

END:VCALENDAR
