BEGIN:VCALENDAR
VERSION:2.0
PRODID:-//ChamberMaster//Event Calendar 2.0//EN
METHOD:PUBLISH
X-PUBLISHED-TTL:P3D
REFRESH-INTERVAL:P3D
CALSCALE:GREGORIAN
BEGIN:VEVENT
DTSTART:20120525T000000Z
DTEND:20120525T020000Z
X-MICROSOFT-CDO-ALLDAYEVENT:FALSE
SUMMARY:May Business after Business
DESCRIPTION:Evening networking event\, no cost to attend. Bring lots of business cards and network with your fellow Chamber members and business professionals.\n\n	\n\n	Where: Craftsman Collision\, 6680 Dickinson Road
X-ALT-DESC;FMTTYPE=text/html:<div style="color: gray">\n	Evening networking event\, no cost to attend. Bring lots of business cards and network with your fellow Chamber members and business professionals.<br />\n	<br />\n	<strong>Where:</strong>&nbsp\;Craftsman Collision\,&nbsp\;6680 Dickinson Road</div>\n
LOCATION:Craftsman Collision\, 6680 Dickinson Road
UID:e.1345.21
SEQUENCE:3
DTSTAMP:20260423T165036Z
URL:https://members.nanaimochamber.bc.ca/events/details/may-business-after-business-05-24-2012-21
END:VEVENT

END:VCALENDAR
