BEGIN:VCALENDAR
VERSION:2.0
PRODID:-//ChamberMaster//Event Calendar 2.0//EN
METHOD:PUBLISH
X-PUBLISHED-TTL:P3D
REFRESH-INTERVAL:P3D
CALSCALE:GREGORIAN
BEGIN:VEVENT
DTSTART;VALUE=DATE:20130313
DTEND;VALUE=DATE:20130314
TRANSP:TRANSPARENT
X-MICROSOFT-CDO-ALLDAYEVENT:TRUE
SUMMARY:March Membership Luncheon
DESCRIPTION:Membership Luncheon\n\nTime: Buffet lunch begins 11:30am\n\nWhere: Vancouver Island Conference Ctr\, 101 Gordon St.\n\nSpeaker: Sasha Angus\, NEDC\n\nSponsor: Nanaimo Economic Development Corp.\n\nCost: Members: $33.48\; Non Members: $50.00 (+ HST)\n\nPlease Note: Pre-payment and Reservations required. Refunds will be issued with 24 hours notice.
X-ALT-DESC;FMTTYPE=text/html:<strong><span style="font-size: 12px"><span style="font-family: arial"><span style="color: #2891d6"><b>Membership Luncheon</b></span></span></span><br />\nTime: </strong>Buffet lunch begins 11:30am<br />\n<strong>Where: </strong>Vancouver Island Conference Ctr\, 101 Gordon St.<br />\n<strong>Speaker: </strong>Sasha Angus\, NEDC<br />\n<strong>Sponsor:</strong> Nanaimo Economic Development Corp.<br />\n<strong>Cost: </strong>Members: $33.48\; Non Members: $50.00 (+ HST)<br />\n<em><strong>Please Note: Pre-payment and Reservations required. Refunds will be issued with 24 hours notice.</strong></em>
LOCATION:Vancouver Island Conference Ctr. 101 Gordon St.
UID:e.1345.60
SEQUENCE:3
DTSTAMP:20260423T005252Z
URL:https://members.nanaimochamber.bc.ca/events/details/march-membership-luncheon-03-13-2013-60
END:VEVENT

END:VCALENDAR
