BEGIN:VCALENDAR
VERSION:2.0
PRODID:-//ChamberMaster//Event Calendar 2.0//EN
METHOD:PUBLISH
X-PUBLISHED-TTL:P3D
REFRESH-INTERVAL:P3D
CALSCALE:GREGORIAN
BEGIN:VEVENT
DTSTART:20140312T180000Z
DTEND:20140312T200000Z
X-MICROSOFT-CDO-ALLDAYEVENT:FALSE
SUMMARY:March Membership Luncheon
DESCRIPTION:Membership Luncheon\n\nTime: Buffet lunch begins 11:30am\n\nWhere: Coast Bastion Hotel\, 11 Bastion St.\n\nSpeaker: Dr. Ralph Nilson\, President & Vice-Chancellor of Vancouver Island University\n\nSponsor: Vancouver Island Crisis Society\n\nCost: Members: $34.00\; Non Members: $50.00 (+ GST)\n\nPlease Note: Pre-payment and Reservations required. Refunds will be issued with 24 hours notice.
X-ALT-DESC;FMTTYPE=text/html:<strong><span style="font-size: 12px"><span style="font-family: arial"><span style="color: #2891d6"><b>Membership Luncheon</b></span></span></span><br />\nTime: </strong>Buffet lunch begins 11:30am<br />\n<strong>Where: </strong>Coast Bastion Hotel\, 11 Bastion St.<br />\n<strong>Speaker: </strong>Dr. Ralph Nilson\, President &amp\; Vice-Chancellor<span style="font-family:calibri\,sans-serif\;"><span style="font-size:11.0pt\;"> </span></span>of Vancouver Island University<br />\n<strong>Sponsor:</strong> Vancouver Island Crisis Society<br />\n<strong>Cost: </strong>Members: $34.00\; Non Members: $50.00 (+ GST)<br />\n<em><strong>Please Note: Pre-payment and Reservations required. Refunds will be issued with 24 hours notice.</strong></em>
LOCATION:Coast Bastion Hotel 11 Bastion Street
UID:e.1345.118
SEQUENCE:3
DTSTAMP:20260422T053335Z
URL:https://members.nanaimochamber.bc.ca/events/details/march-membership-luncheon-03-12-2014-118
END:VEVENT

END:VCALENDAR
