BEGIN:VCALENDAR
VERSION:2.0
PRODID:-//ChamberMaster//Event Calendar 2.0//EN
METHOD:PUBLISH
X-PUBLISHED-TTL:P3D
REFRESH-INTERVAL:P3D
CALSCALE:GREGORIAN
BEGIN:VEVENT
DTSTART:20120314T183000Z
DTEND:20120314T203000Z
X-MICROSOFT-CDO-ALLDAYEVENT:FALSE
SUMMARY:March Chamber Luncheon
DESCRIPTION:Membership Luncheon\n\nTime: Buffet lunch begins 11:30am\n\nWhere: Coast Bastion Inn\, 11 Bastion St.\n\nSpeaker: Ken Balmer & Brenda Clarke\, RETHINK (West) Inc.\n\nTopic: Towards a Strategic Plan for the City of Nanaimo\n\nSponsor: Central V.I. Multicultural Society\n\nCost: Members: $31.25\; Non Members: $45.00 (+ HST)\n\nPlease Note: Pre-payment and Reservations required. Refunds will be issued with 24 hours notice.
X-ALT-DESC;FMTTYPE=text/html:<strong><span style="font-size: 12px"><span style="font-family: arial"><span style="color: #2891d6"><b>Membership Luncheon</b></span></span></span><br />\nTime: </strong>Buffet lunch begins 11:30am<br />\n<strong>Where: </strong>Coast Bastion Inn\, 11 Bastion St.<br />\n<strong>Speaker: </strong>Ken Balmer &amp\; Brenda Clarke\, RETHINK (West) Inc.<br />\n<strong>Topic:</strong> Towards a Strategic Plan for the City of Nanaimo<br />\n<strong>Sponsor: </strong>Central V.I. Multicultural Society<br />\n<strong>Cost: </strong>Members: $31.25\; Non Members: $45.00 (+ HST)<br />\n<em><strong>Please Note: Pre-payment and Reservations required. Refunds will be issued with 24 hours notice.</strong></em>
LOCATION:Coast Bastion Inn\, 11 Bastion St.
UID:e.1345.14
SEQUENCE:3
DTSTAMP:20260423T193012Z
URL:https://members.nanaimochamber.bc.ca/events/details/march-chamber-luncheon-03-14-2012-14
END:VEVENT

END:VCALENDAR
