BEGIN:VCALENDAR
VERSION:2.0
PRODID:-//ChamberMaster//Event Calendar 2.0//EN
METHOD:PUBLISH
X-PUBLISHED-TTL:P3D
REFRESH-INTERVAL:P3D
CALSCALE:GREGORIAN
BEGIN:VEVENT
DTSTART:20120321T143000Z
DTEND:20120321T153000Z
X-MICROSOFT-CDO-ALLDAYEVENT:FALSE
SUMMARY:March Business before Business
DESCRIPTION:Morning Networking event\, no cost to attend. Bring lots of business cards and network with your fellow Chamber members and business professionals.\n\n \n\nWhere: Casino Nanaimo\, 620 Terminal Ave.
X-ALT-DESC;FMTTYPE=text/html:Morning Networking event\, no cost to attend. Bring lots of business cards and network with your fellow Chamber members and business professionals.<br />\n<span _fck_bookmark="1" style="display: none">&nbsp\;</span><br />\n<strong>Where</strong>: Casino Nanaimo\, 620 Terminal Ave.
LOCATION:Casino Nanaimo\, 620 Terminal Ave. (Port Place Shopping Centre)
UID:e.1345.13
SEQUENCE:3
DTSTAMP:20260423T195016Z
URL:https://members.nanaimochamber.bc.ca/events/details/march-business-before-business-03-21-2012-13
END:VEVENT

END:VCALENDAR
