BEGIN:VCALENDAR
VERSION:2.0
PRODID:-//ChamberMaster//Event Calendar 2.0//EN
METHOD:PUBLISH
X-PUBLISHED-TTL:P3D
REFRESH-INTERVAL:P3D
CALSCALE:GREGORIAN
BEGIN:VEVENT
DTSTART:20150319T143000Z
DTEND:20150319T153000Z
X-MICROSOFT-CDO-ALLDAYEVENT:FALSE
SUMMARY:March Business before Business
DESCRIPTION:Morning Networking event\, no cost to attend. Bring lots of business cards and network with your fellow Chamber members and business professionals.\n\n \n\nWhere: 460 Realty\, 202-1551 Estevan Rd.
X-ALT-DESC;FMTTYPE=text/html:Morning Networking event\, no cost to attend. Bring lots of business cards and network with your fellow Chamber members and business professionals.<br />\n<span _fck_bookmark="1" style="display: none">&nbsp\;</span><br />\n<strong>Where</strong>: 460 Realty\, 202-1551 Estevan Rd.<br />\n&nbsp\;
LOCATION:460 Realty\, 202-1551 Estevan Rd.
UID:e.1345.192
SEQUENCE:3
DTSTAMP:20260423T084223Z
URL:https://members.nanaimochamber.bc.ca/events/details/march-business-before-business-03-19-2015-192
END:VEVENT

END:VCALENDAR
