BEGIN:VCALENDAR
VERSION:2.0
PRODID:-//ChamberMaster//Event Calendar 2.0//EN
METHOD:PUBLISH
X-PUBLISHED-TTL:P3D
REFRESH-INTERVAL:P3D
CALSCALE:GREGORIAN
BEGIN:VEVENT
DTSTART:20140328T000000Z
DTEND:20140328T020000Z
X-MICROSOFT-CDO-ALLDAYEVENT:FALSE
SUMMARY:March Business after Business
DESCRIPTION:After work networking event\, no cost to attend. Bring lots of business cards and network with your fellow Chamber members and business professionals.\n\n\n\nWhere: Coast Bastion Hotel\, 11 Bastion St.
X-ALT-DESC;FMTTYPE=text/html:<span style="font-size: 9pt"><span style="color: #252525"><span style="font-family: arial\, sans-serif">After work networking event\, no cost to attend. Bring lots of business cards and network with your fellow Chamber members and business professionals.</span></span></span><br />\n<br />\n<strong><span style="font-size: 9pt"><span style="color: black"><span style="font-family: arial\, sans-serif">Where:</span></span></span></strong> Coast Bastion Hotel\, 11 Bastion St.<br />\n<br />\n
LOCATION:Coast Bastion Hotel 11 Bastion Street
UID:e.1345.120
SEQUENCE:3
DTSTAMP:20260422T040259Z
URL:https://members.nanaimochamber.bc.ca/events/details/march-business-after-business-03-27-2014-120
END:VEVENT

END:VCALENDAR
