BEGIN:VCALENDAR
VERSION:2.0
PRODID:-//ChamberMaster//Event Calendar 2.0//EN
METHOD:PUBLISH
X-PUBLISHED-TTL:P3D
REFRESH-INTERVAL:P3D
CALSCALE:GREGORIAN
BEGIN:VEVENT
DTSTART:20150327T000000Z
DTEND:20150327T020000Z
X-MICROSOFT-CDO-ALLDAYEVENT:FALSE
SUMMARY:March Business after Business
DESCRIPTION:After work networking event\, no cost to attend. Bring lots of business cards and network with your fellow Chamber members and business professionals.\n\n\n\nWhere: Westmark Construction\, Pacific Station - 5220 Dublin Way
X-ALT-DESC;FMTTYPE=text/html:<span style="font-size: 9pt"><span style="color: #252525"><span style="font-family: arial\, sans-serif">After work networking event\, no cost to attend. Bring lots of business cards and network with your fellow Chamber members and business professionals.</span></span></span><br />\n<br />\n<strong><span style="font-size: 9pt"><span style="color: black"><span style="font-family: arial\, sans-serif">Where:</span></span></span></strong> Westmark Construction\, Pacific Station - 5220 Dublin Way<br />\n&nbsp\;
LOCATION:Westmark Construction Pacific Station - 5220 Dublin Way
UID:e.1345.193
SEQUENCE:3
DTSTAMP:20260421T080340Z
URL:https://members.nanaimochamber.bc.ca/events/details/march-business-after-business-03-26-2015-193
END:VEVENT

END:VCALENDAR
