BEGIN:VCALENDAR
VERSION:2.0
PRODID:-//ChamberMaster//Event Calendar 2.0//EN
METHOD:PUBLISH
X-PUBLISHED-TTL:P3D
REFRESH-INTERVAL:P3D
CALSCALE:GREGORIAN
BEGIN:VEVENT
DTSTART:20141024T150000Z
DTEND:20141024T180000Z
X-MICROSOFT-CDO-ALLDAYEVENT:FALSE
SUMMARY:LNG Information Breakfast
DESCRIPTION:When: Friday\, Oct. 24\, 2014\n\nWhere: Vancouver Island Conference Ctr.\, Ballroom D\n\nTime: Breakfast starts at 8:00am\n\nSpeaker: Mike Bernier\, MLA for Peace River South\n\nCost: $35.00 +GST\n\n\n\nLNG -or Liquefied Natural Gas - offers opportunities for businesses on Vancouver Island and throughout British Columbia\, not just in the north. Join us for breakfast Friday\, October 24th at the VICC to hear from Peace River South MLA Mike Bernier who has been touring the Province to provide information on the opportunities for BC businesses.\n\n\n\nIt is anticipated that LNG will create up to $1 trillion in economic activity and as many as 100\,000 jobs in British Columbia over the next 30 years and the province is working to ensure the business community can participate in the opportunities LNG offers. It is a great opportunity for people to understand and see firsthand how LNG can benefit them and their businesses. This session will help participants understand the key features of the completed program and their role in pursuing LNG procurement opportunities and how this procurement can help them to grow.\n\n\n\nTickets are $35 + GST\, call 250-756-1191 or registration@nanaimochamber.bc.ca to reserve a ticket.
X-ALT-DESC;FMTTYPE=text/html:When: Friday\, Oct. 24\, 2014<br />\nWhere: Vancouver Island Conference Ctr.\, Ballroom D<br />\nTime: Breakfast starts at 8:00am<br />\nSpeaker: Mike Bernier\, MLA for Peace River South<br />\nCost: $35.00 +GST<br />\n<br />\nLNG -or Liquefied Natural Gas - offers opportunities for businesses on Vancouver Island and throughout British Columbia\, not just in the north. Join us for breakfast Friday\, October 24th at the VICC to hear from Peace River South MLA Mike Bernier who has been touring the Province to provide information on the opportunities for BC businesses.<br />\n<br />\nIt is anticipated that LNG will create up to $1 trillion in economic activity and as many as 100\,000 jobs in British Columbia over the next 30 years and the province is working to ensure the business community can participate in the opportunities LNG offers. It is a great opportunity for people to understand and see firsthand how LNG can benefit them and their businesses. This session will help participants understand the key features of the completed program and their role in pursuing LNG procurement opportunities and how this procurement can help them to grow.<br />\n<br />\nTickets are $35 + GST\, call 250-756-1191 or <a href="mailto:registration@nanaimochamber.bc.ca">registration@nanaimochamber.bc.ca</a> to reserve a ticket.
LOCATION:Vancouver Island Conference Ctr.
UID:e.1345.171
SEQUENCE:3
DTSTAMP:20260421T174323Z
URL:https://members.nanaimochamber.bc.ca/events/details/lng-information-breakfast-10-24-2014-171
END:VEVENT

END:VCALENDAR
