BEGIN:VCALENDAR
VERSION:2.0
PRODID:-//ChamberMaster//Event Calendar 2.0//EN
METHOD:PUBLISH
X-PUBLISHED-TTL:P3D
REFRESH-INTERVAL:P3D
CALSCALE:GREGORIAN
BEGIN:VEVENT
DTSTART:20141001T000000Z
DTEND:20141001T030000Z
X-MICROSOFT-CDO-ALLDAYEVENT:FALSE
SUMMARY:Lightning Talks 3
DESCRIPTION:When:    Tuesday\, September 30\, 2014\n\nWhere:   Boston Pizza at 2-5779 Turner Road  \n\nTime:     5:00pm-8:00pm\n\nCost:     $19 (+GST)
X-ALT-DESC;FMTTYPE=text/html:When:&nbsp\;&nbsp\; &nbsp\;Tuesday\, September 30\, 2014<br />\nWhere:&nbsp\;&nbsp\; Boston Pizza at 2-5779 Turner Road &nbsp\;<br />\nTime: &nbsp\;&nbsp\; &nbsp\;5:00pm-8:00pm<br />\nCost: &nbsp\;&nbsp\; &nbsp\;$19 (+GST)
LOCATION:Boston Pizza 2-5779 Turner Rd.
UID:e.1345.165
SEQUENCE:3
DTSTAMP:20260421T174139Z
URL:https://members.nanaimochamber.bc.ca/events/details/lightning-talks-3-09-30-2014-165
END:VEVENT

END:VCALENDAR
