BEGIN:VCALENDAR
VERSION:2.0
PRODID:-//ChamberMaster//Event Calendar 2.0//EN
METHOD:PUBLISH
X-PUBLISHED-TTL:P3D
REFRESH-INTERVAL:P3D
CALSCALE:GREGORIAN
BEGIN:VEVENT
DTSTART:20140625T000000Z
DTEND:20140625T020000Z
X-MICROSOFT-CDO-ALLDAYEVENT:FALSE
SUMMARY:Lightning Talks 2: Customer Cornucopia
DESCRIPTION:Acquiring a steady stream of new customers and retaining existing ones is a vital part of any successful business. The Greater Nanaimo Chamber of Commerce is once again teaming with VSP MEDIA for an informative\, interactive and entertaining evening of LIGHTNING TALKS!  You'll learn how to utilize your existing customers to get new ones\, and how to significantly enhance & protect both your word-of-mouth and on-line reputation.\n\n\n\nThe event opens with a no-host bar and casual meeting time to network with your Nanaimo business peers in a lovely outdoor summer patio setting. Then\, Lightning Talks II kicks off with four fast-paced mini-workshops:\n\n\n\n  "Good Rep\, Bad Rep"   Reputation Management Tips with David Hatchman of VSP Media\;\n\n\n\n  "No More Mr. Nice Guy"   Tales of Online Customer (and Faux Customer) interactions gone wrong  and what to do should it happen to you\, with Renowned Media Law Lawyer\, Dan Burnett of Vancouver's Owen Bird Law Corporation.\n\n\n\n"It's Not Me\, It's You\, You\, You!"   Nick West of Enable Business Consulting reviews some take-home tactics you can use to ensure your prospective customers find dealing with you such a pleasure\, they will feel a natural inclination to give you their business.\n\n\n\nThe Referral Machine   Braden Wheatcroft of Remax Nanaimo demonstrates how your existing customers can be your most productive sales agents\, and how to create a process where your clients will be delighted to refer you to their friends and loved ones\, who in turn generate even more referrals.\n\n\n\nThere will also be a mini workshop on how to deliver a 45-second sales pitch to your prospective customers. Then eight lucky attendees will get to test drive their pitch and have it critiqued in a lightening evaluation!\n\n\n\nAfterwards you can immediately try out your enhanced infomercials and network with the presenters on the patio.
X-ALT-DESC;FMTTYPE=text/html:Acquiring a steady stream of new customers and retaining existing ones is a vital part of any successful business. The Greater Nanaimo Chamber of Commerce is once again teaming with VSP MEDIA for an informative\, interactive and entertaining evening of LIGHTNING TALKS!&nbsp\; You&rsquo\;ll learn how to utilize your existing customers to get new ones\, and how to significantly enhance &amp\; protect both your word-of-mouth and on-line reputation.<br />\n<br />\nThe event opens with a no-host bar and casual meeting time to network with your Nanaimo business peers in a lovely outdoor summer patio setting. Then\, Lightning Talks II kicks off with four fast-paced mini-workshops:<br />\n<br />\n&ndash\; &ldquo\;Good Rep\, Bad Rep&rdquo\; &ndash\; Reputation Management Tips with David Hatchman of VSP Media\;<br />\n<br />\n&ndash\; &ldquo\;No More Mr. Nice Guy&rdquo\; &ndash\; Tales of Online Customer (and Faux Customer) interactions gone wrong&hellip\; and what to do should it happen to you\, with Renowned Media Law Lawyer\, Dan Burnett of Vancouver&rsquo\;s Owen Bird Law Corporation.<br />\n<br />\n&ldquo\;It&rsquo\;s Not Me\, It&rsquo\;s You\, You\, You!&rdquo\; &ndash\; Nick West of Enable Business Consulting reviews some take-home tactics you can use to ensure your prospective customers find dealing with you such a pleasure\, they will feel a natural inclination to give you their business.<br />\n<br />\nThe Referral Machine &ndash\; Braden Wheatcroft of Remax Nanaimo demonstrates how your existing customers can be your most productive sales agents\, and how to create a process where your clients will be delighted to refer you to their friends and loved ones\, who in turn generate even more referrals.<br />\n<br />\nThere will also be a mini workshop on how to deliver a 45-second sales pitch to your prospective customers. Then eight lucky attendees will get to test drive their pitch and have it critiqued in a lightening evaluation!<br />\n<br />\nAfterwards you can immediately try out your enhanced infomercials and network with the presenters on the patio.
LOCATION:Coast Bastion Hotel 11 Bastion St.
UID:e.1345.155
SEQUENCE:3
DTSTAMP:20260421T224057Z
URL:https://members.nanaimochamber.bc.ca/events/details/lightning-talks-2-customer-cornucopia-06-24-2014-155
END:VEVENT

END:VCALENDAR
