BEGIN:VCALENDAR
VERSION:2.0
PRODID:-//ChamberMaster//Event Calendar 2.0//EN
METHOD:PUBLISH
X-PUBLISHED-TTL:P3D
REFRESH-INTERVAL:P3D
CALSCALE:GREGORIAN
BEGIN:VEVENT
DTSTART:20160511T143000Z
DTEND:20160511T160000Z
X-MICROSOFT-CDO-ALLDAYEVENT:FALSE
SUMMARY:Leadership Prayer Breakfast
DESCRIPTION:The Central Vancouver Island Leadership Prayer Breakfast serves as a quiet way to reaffirm our faith in a higher power and provide an opportunity to connect with other leaders in our communities.The practice has its precedent in the national capital where our leaders have assembled for the past 47 years in the national prayer breakfast\, and serves as a public affirmation of the power of faith.\n\n\n\nGUEST SPEAKER:  The Honourable Deborah Grey\n\nFormer Member of Parliament\, Privy Councilor and Member of the Secruity Intelligence Review Committee\, will speak about safety at home (in Canada) and will share with us the stresses of leading on an international stage.
X-ALT-DESC;FMTTYPE=text/html:The Central Vancouver Island Leadership Prayer Breakfast serves as a quiet way to reaffirm our faith in a higher power and provide an opportunity to connect with other leaders in our communities.The practice has its precedent in the national capital where our leaders have assembled for the past 47 years in the national prayer breakfast\, and serves as a public affirmation of the power of faith.<br />\n<br />\n<strong>GUEST SPEAKER:&nbsp\; The Honourable Deborah Grey</strong><br />\n<span class="adr"><span class="postal-code">Former Member of Parliament\, Privy Councilor and Member of the Secruity Intelligence Review Committee\, will speak about safety at home (in Canada) and will share with us the stresses of leading on an international stage.</span></span>
LOCATION:Vancouver Island Conference Center
UID:e.1345.470
SEQUENCE:3
DTSTAMP:20260420T095655Z
URL:https://members.nanaimochamber.bc.ca/events/details/leadership-prayer-breakfast-05-11-2016-470
END:VEVENT

END:VCALENDAR
