BEGIN:VCALENDAR
VERSION:2.0
PRODID:-//ChamberMaster//Event Calendar 2.0//EN
METHOD:PUBLISH
X-PUBLISHED-TTL:P3D
REFRESH-INTERVAL:P3D
CALSCALE:GREGORIAN
BEGIN:VEVENT
DTSTART;VALUE=DATE:20150610
DTEND;VALUE=DATE:20150611
TRANSP:TRANSPARENT
X-MICROSOFT-CDO-ALLDAYEVENT:TRUE
SUMMARY:June Membership Luncheon
DESCRIPTION:Membership Luncheon\n\nTime: Buffet lunch begins 11:30am\n\nWhere: Coast Bastion Hotel\, 11 Bastion St.\n\nSpeaker: Karen Lindsay\, Emergency Program Manager - City of Nanaimo\n\nDo you have a Business Continuity Plan if there is an earthquake? This luncheon will guide you in the ways to make it happen for your business.\n\n\n\nDr. San Mahara will also be talking about his experience in Nepal during the earthquake.\n\nSponsor: City of Nanaimo\n\nCost: Members: $34.00 (+ GST)\; Non-Members: $50.00 (+ GST)\n\nPlease Note: Pre-payment and Reservations required. Refunds will be issued with 48 hours notice.\n\n\n\nCancellation Policy\n\nThe Greater Nanaimo Chamber of Commerce maintains a 48 hour minimum (2 business days) cancellation policy for all Chamber events. Cancellations made with less than 48 hours' notice are not eligible for a refund.  Unpaid registrations will be invoiced. This includes any function for which a charge is made. If you are unable to attend an event for which you have registered\, consider offering your spot to a colleague\, staff member or customer as a gift. There is no additional charge to transfer your registration to someone else. Simply notify the Chamber by calling 250-756-1191.\n\nThank you for your cooperation.
X-ALT-DESC;FMTTYPE=text/html:<div style="color: gray"><span style="font-size: 12px"><span style="font-family: arial"><span style="color: #2891d6"><b>Membership Luncheon</b></span></span></span><br />\n<span style="color:#000000\;"><strong>Time: </strong>Buffet lunch begins 11:30am<br />\n<strong>Where: </strong>Coast Bastion Hotel\, 11 Bastion St.<br />\n<strong>Speaker: </strong>Karen Lindsay\, Emergency Program Manager - City of Nanaimo<br />\nDo you have a Business Continuity Plan if there is an earthquake? This</span> <span style="color:#000000\;">luncheon will guide you in the ways to make it happen for your business.<br />\n<br />\nDr. San Mahara will also be talking about his experience in Nepal during the earthquake.<br />\n<strong>Sponsor:</strong> City of Nanaimo<br />\n<strong>Cost:&nbsp\;</strong>Members:<strong>&nbsp\;</strong>$34.00 (+ GST)\; Non-Members: $50.00&nbsp\;(+ GST)<br />\n<em><strong>Please Note: Pre-payment and Reservations required. Refunds will be issued with 48 hours notice.</strong></em></span><br />\n<br />\n<span style="color:#000000\;"><strong>Cancellation Policy</strong><br />\nThe Greater Nanaimo Chamber of Commerce maintains a 48 hour minimum (2 business days) cancellation policy for all Chamber events. Cancellations made with less than 48 hours&rsquo\; notice are not eligible for a refund.&nbsp\; Unpaid registrations will be invoiced. This includes any function for which a charge is made. If you are unable to attend an event for which you have registered\, consider offering your spot to a colleague\, staff member or customer as a gift. There is no additional charge to transfer your registration to someone else. Simply notify the Chamber by calling 250-756-1191.<br />\nThank you for your cooperation.</span></div>\n
LOCATION:Coast Bastion Hotel 11 Bastion Street
UID:e.1345.208
SEQUENCE:3
DTSTAMP:20260421T030700Z
URL:https://members.nanaimochamber.bc.ca/events/details/june-membership-luncheon-06-10-2015-208
END:VEVENT

END:VCALENDAR
