BEGIN:VCALENDAR
VERSION:2.0
PRODID:-//ChamberMaster//Event Calendar 2.0//EN
METHOD:PUBLISH
X-PUBLISHED-TTL:P3D
REFRESH-INTERVAL:P3D
CALSCALE:GREGORIAN
BEGIN:VEVENT
DTSTART:20150617T143000Z
DTEND:20150617T153000Z
X-MICROSOFT-CDO-ALLDAYEVENT:FALSE
SUMMARY:June Business before Business
DESCRIPTION:Morning networking event\, no cost to attend. Bring lots of business cards and network with your fellow Chamber members and business professionals.\n\n\n\nWhere: Nanaimo Child Development Centre\, 1135 Nelson St.
X-ALT-DESC;FMTTYPE=text/html:<div style="color: gray"><span style="color:#000000\;">Morning networking event\, no cost to attend. Bring lots of business cards and network with your fellow Chamber members and business professionals.<br />\n<br />\n<strong>Where: </strong></span><span style="language:en-CA\;"><span style="color:black\;"><span style="font-family:calibri\;"><span style="font-size:11.0pt\;">Nanaimo Child Development Centre\, 1135 Nelson St.</span></span></span></span><br />\n&nbsp\;</div>\n
LOCATION:Nanaimo Child Development Ctr 1135 Nelson St.
UID:e.1345.209
SEQUENCE:3
DTSTAMP:20260421T030915Z
URL:https://members.nanaimochamber.bc.ca/events/details/june-business-before-business-06-17-2015-209
END:VEVENT

END:VCALENDAR
