BEGIN:VCALENDAR
VERSION:2.0
PRODID:-//ChamberMaster//Event Calendar 2.0//EN
METHOD:PUBLISH
X-PUBLISHED-TTL:P3D
REFRESH-INTERVAL:P3D
CALSCALE:GREGORIAN
BEGIN:VEVENT
DTSTART:20130612T143000Z
DTEND:20130612T153000Z
X-MICROSOFT-CDO-ALLDAYEVENT:FALSE
SUMMARY:June Business before Business
DESCRIPTION:Morning networking event\, no cost to attend. Bring lots of business cards and network with your fellow Chamber members and business professionals.\n\n	\n\n	Where: Bayshore Restaurant & Patio\, 1-1240 Stewart Ave.
X-ALT-DESC;FMTTYPE=text/html:<div style="color: gray">\n	<span style="color:#000000\;">Morning networking event\, no cost to attend. Bring lots of business cards and network with your fellow Chamber members and business professionals.<br />\n	<br />\n	<strong>Where:</strong> Bayshore Restaurant &amp\; Patio\, 1-1240 Stewart Ave.</span></div>\n
LOCATION:Bayshore Restaurant 1-1240 Stewart Ave.
UID:e.1345.83
SEQUENCE:3
DTSTAMP:20260422T193013Z
URL:https://members.nanaimochamber.bc.ca/events/details/june-business-before-business-06-12-2013-83
END:VEVENT

END:VCALENDAR
