BEGIN:VCALENDAR
VERSION:2.0
PRODID:-//ChamberMaster//Event Calendar 2.0//EN
METHOD:PUBLISH
X-PUBLISHED-TTL:P3D
REFRESH-INTERVAL:P3D
CALSCALE:GREGORIAN
BEGIN:VEVENT
DTSTART:20120629T000000Z
DTEND:20120629T020000Z
X-MICROSOFT-CDO-ALLDAYEVENT:FALSE
SUMMARY:June Business after Business
DESCRIPTION:After work networking event\, no cost to attend. Bring lots of business cards and network with your fellow Chamber members and business professionals.\n\n	 \n\n	Where: U-Lock Mini Storage\, 4388 Wellington Rd.
X-ALT-DESC;FMTTYPE=text/html:<div style="color: gray">\n	<span style="font-size: 9pt"><span style="color: #252525"><span style="font-family: arial\, sans-serif">After work networking event\, no cost to attend. Bring lots of business cards and network with your fellow Chamber members and business professionals.</span></span></span><br />\n	<span _fck_bookmark="1" style="display: none">&nbsp\;</span><br />\n	<span style="color: #000000"><strong>Where:</strong>&nbsp\;U-Lock&nbsp\;Mini Storage\,&nbsp\;4388 Wellington&nbsp\;Rd.</span></div>\n
LOCATION:U-Lock Mini Storage 4388 Wellington Rd.
UID:e.1345.28
SEQUENCE:3
DTSTAMP:20260423T150826Z
URL:https://members.nanaimochamber.bc.ca/events/details/june-business-after-business-06-28-2012-28
END:VEVENT

END:VCALENDAR
