BEGIN:VCALENDAR
VERSION:2.0
PRODID:-//ChamberMaster//Event Calendar 2.0//EN
METHOD:PUBLISH
X-PUBLISHED-TTL:P3D
REFRESH-INTERVAL:P3D
CALSCALE:GREGORIAN
BEGIN:VEVENT
DTSTART:20140627T000000Z
DTEND:20140627T020000Z
X-MICROSOFT-CDO-ALLDAYEVENT:FALSE
SUMMARY:June Business after Business
DESCRIPTION:After work networking event\, no cost to attend. Bring lots of business cards and network with your fellow Chamber members and business professionals.\n\n \n\nHost: Woodgrove Pines Clinic\, 102-6135 Metral Dr
X-ALT-DESC;FMTTYPE=text/html:<div style="color: gray"><span style="font-size: 9pt"><span style="color: #252525"><span style="font-family: arial\, sans-serif">After work networking event\, no cost to attend. Bring lots of business cards and network with your fellow Chamber members and business professionals.</span></span></span><br />\n<span _fck_bookmark="1" style="display: none">&nbsp\;</span><br />\n<span style="color:#000000\;"><strong>Host:</strong> Woodgrove Pines Clinic\, 102-6135 Metral Dr</span></div>\n
LOCATION:
UID:e.1345.149
SEQUENCE:3
DTSTAMP:20260421T225058Z
URL:https://members.nanaimochamber.bc.ca/events/details/june-business-after-business-06-26-2014-149
END:VEVENT

END:VCALENDAR
